BEGIN:VCALENDAR
VERSION:2.0
PRODID:-//Protestantische Kirchengemeinde Sausenheim-Neuleiningen - ECPv6.15.20//NONSGML v1.0//EN
CALSCALE:GREGORIAN
METHOD:PUBLISH
X-WR-CALNAME:Protestantische Kirchengemeinde Sausenheim-Neuleiningen
X-ORIGINAL-URL:https://kirche-sausenheim-neuleiningen.de
X-WR-CALDESC:Veranstaltungen für Protestantische Kirchengemeinde Sausenheim-Neuleiningen
REFRESH-INTERVAL;VALUE=DURATION:PT1H
X-Robots-Tag:noindex
X-PUBLISHED-TTL:PT1H
BEGIN:VTIMEZONE
TZID:Europe/Berlin
BEGIN:DAYLIGHT
TZOFFSETFROM:+0100
TZOFFSETTO:+0200
TZNAME:CEST
DTSTART:20250330T010000
END:DAYLIGHT
BEGIN:STANDARD
TZOFFSETFROM:+0200
TZOFFSETTO:+0100
TZNAME:CET
DTSTART:20251026T010000
END:STANDARD
BEGIN:DAYLIGHT
TZOFFSETFROM:+0100
TZOFFSETTO:+0200
TZNAME:CEST
DTSTART:20260329T010000
END:DAYLIGHT
BEGIN:STANDARD
TZOFFSETFROM:+0200
TZOFFSETTO:+0100
TZNAME:CET
DTSTART:20261025T010000
END:STANDARD
BEGIN:DAYLIGHT
TZOFFSETFROM:+0100
TZOFFSETTO:+0200
TZNAME:CEST
DTSTART:20270328T010000
END:DAYLIGHT
BEGIN:STANDARD
TZOFFSETFROM:+0200
TZOFFSETTO:+0100
TZNAME:CET
DTSTART:20271031T010000
END:STANDARD
END:VTIMEZONE
BEGIN:VEVENT
DTSTART;TZID=Europe/Berlin:20260306T080000
DTEND;TZID=Europe/Berlin:20260306T170000
DTSTAMP:20260426T054055
CREATED:20260306T204902Z
LAST-MODIFIED:20260306T204902Z
UID:6799-1772784000-1772816400@kirche-sausenheim-neuleiningen.de
SUMMARY:Ökum. Taizé-Singkreis Laudate
DESCRIPTION:
URL:https://kirche-sausenheim-neuleiningen.de/event/oekum-taize-singkreis-laudate-26/
CATEGORIES:Gottesdienst,Musik,Ökumenische Veranstaltung
END:VEVENT
BEGIN:VEVENT
DTSTART;TZID=Europe/Berlin:20260306T080000
DTEND;TZID=Europe/Berlin:20260306T170000
DTSTAMP:20260426T054055
CREATED:20260306T205022Z
LAST-MODIFIED:20260306T205022Z
UID:6801-1772784000-1772816400@kirche-sausenheim-neuleiningen.de
SUMMARY:Ökum. Taizé-Singkreis Laudate
DESCRIPTION:
URL:https://kirche-sausenheim-neuleiningen.de/event/oekum-taize-singkreis-laudate-27/
CATEGORIES:Gottesdienst,Musik,Ökumenische Veranstaltung
END:VEVENT
BEGIN:VEVENT
DTSTART;TZID=Europe/Berlin:20260306T190000
DTEND;TZID=Europe/Berlin:20260306T220000
DTSTAMP:20260426T054055
CREATED:20260306T203939Z
LAST-MODIFIED:20260306T203939Z
UID:6789-1772823600-1772834400@kirche-sausenheim-neuleiningen.de
SUMMARY:Jugendtreff
DESCRIPTION:
URL:https://kirche-sausenheim-neuleiningen.de/event/jugendtreff-27/
LOCATION:Gemeindehaus Sausenheim\, Kirchgasse 11\, Grünstadt-Sausenheim\, 67269\, Deutschland
CATEGORIES:Gemeindeleben,Musik
END:VEVENT
BEGIN:VEVENT
DTSTART;TZID=Europe/Berlin:20260308T101500
DTEND;TZID=Europe/Berlin:20260308T110000
DTSTAMP:20260426T054055
CREATED:20260306T192832Z
LAST-MODIFIED:20260306T192832Z
UID:6708-1772964900-1772967600@kirche-sausenheim-neuleiningen.de
SUMMARY:Vorstellungsgottesdienst
DESCRIPTION:
URL:https://kirche-sausenheim-neuleiningen.de/event/vorstellungsgottesdienst-5/
LOCATION:St. Peterskirche Sausenheim\, Kirchgasse 11\, Grünstadt\, 67269\, Deutschland
CATEGORIES:Gemeindeleben,Gottesdienst,Konfi-Unterricht,Musik
END:VEVENT
BEGIN:VEVENT
DTSTART;TZID=Europe/Berlin:20260309T193000
DTEND;TZID=Europe/Berlin:20260309T200000
DTSTAMP:20260426T054055
CREATED:20260306T202717Z
LAST-MODIFIED:20260306T202717Z
UID:6773-1773084600-1773086400@kirche-sausenheim-neuleiningen.de
SUMMARY:House-Kreis
DESCRIPTION:Kurzer Impuls zur Woche
URL:https://kirche-sausenheim-neuleiningen.de/event/house-kreis-7/
LOCATION:St. Peterskirche Sausenheim\, Kirchgasse 11\, Grünstadt\, 67269\, Deutschland
CATEGORIES:Gemeindeleben,Konzert,Musik
END:VEVENT
BEGIN:VEVENT
DTSTART;TZID=Europe/Berlin:20260315T101500
DTEND;TZID=Europe/Berlin:20260315T120000
DTSTAMP:20260426T054055
CREATED:20260306T193034Z
LAST-MODIFIED:20260306T193034Z
UID:6710-1773569700-1773576000@kirche-sausenheim-neuleiningen.de
SUMMARY:Konfirmation I
DESCRIPTION:
URL:https://kirche-sausenheim-neuleiningen.de/event/konfirmation-i-5/
LOCATION:St. Peterskirche Sausenheim\, Kirchgasse 11\, Grünstadt\, 67269\, Deutschland
CATEGORIES:Gemeindeleben,Gottesdienst,Konfi-Unterricht,Musik
END:VEVENT
BEGIN:VEVENT
DTSTART;TZID=Europe/Berlin:20260316T193000
DTEND;TZID=Europe/Berlin:20260316T200000
DTSTAMP:20260426T054055
CREATED:20260306T202849Z
LAST-MODIFIED:20260306T202849Z
UID:6775-1773689400-1773691200@kirche-sausenheim-neuleiningen.de
SUMMARY:House-Kreis
DESCRIPTION:Kurzer Impuls zur Woche
URL:https://kirche-sausenheim-neuleiningen.de/event/house-kreis-8/
LOCATION:St. Peterskirche Sausenheim\, Kirchgasse 11\, Grünstadt\, 67269\, Deutschland
CATEGORIES:Gemeindeleben,Konzert,Musik
END:VEVENT
BEGIN:VEVENT
DTSTART;TZID=Europe/Berlin:20260318T193000
DTEND;TZID=Europe/Berlin:20260318T213000
DTSTAMP:20260426T054055
CREATED:20260306T204200Z
LAST-MODIFIED:20260306T204200Z
UID:6791-1773862200-1773869400@kirche-sausenheim-neuleiningen.de
SUMMARY:Ökum. Taizé-Singkreis Laudate
DESCRIPTION:
URL:https://kirche-sausenheim-neuleiningen.de/event/oekum-taize-singkreis-laudate-22/
LOCATION:Gemeindehaus Sausenheim\, Kirchgasse 11\, Grünstadt-Sausenheim\, 67269\, Deutschland
CATEGORIES:Gottesdienst,Musik,Ökumenische Veranstaltung
END:VEVENT
BEGIN:VEVENT
DTSTART;TZID=Europe/Berlin:20260320T190000
DTEND;TZID=Europe/Berlin:20260320T220000
DTSTAMP:20260426T054055
CREATED:20260306T203815Z
LAST-MODIFIED:20260306T203815Z
UID:6787-1774033200-1774044000@kirche-sausenheim-neuleiningen.de
SUMMARY:Jugendtreff
DESCRIPTION:
URL:https://kirche-sausenheim-neuleiningen.de/event/jugendtreff-26/
LOCATION:Gemeindehaus Sausenheim\, Kirchgasse 11\, Grünstadt-Sausenheim\, 67269\, Deutschland
CATEGORIES:Gemeindeleben,Musik
END:VEVENT
BEGIN:VEVENT
DTSTART;TZID=Europe/Berlin:20260322T101500
DTEND;TZID=Europe/Berlin:20260322T120000
DTSTAMP:20260426T054055
CREATED:20260306T193227Z
LAST-MODIFIED:20260306T193227Z
UID:6712-1774174500-1774180800@kirche-sausenheim-neuleiningen.de
SUMMARY:Konfirmation II
DESCRIPTION:
URL:https://kirche-sausenheim-neuleiningen.de/event/konfirmation-ii-5/
LOCATION:St. Peterskirche Sausenheim\, Kirchgasse 11\, Grünstadt\, 67269\, Deutschland
CATEGORIES:Gemeindeleben,Gottesdienst,Konfi-Unterricht,Musik
END:VEVENT
BEGIN:VEVENT
DTSTART;TZID=Europe/Berlin:20260323T193000
DTEND;TZID=Europe/Berlin:20260323T200000
DTSTAMP:20260426T054055
CREATED:20260306T203019Z
LAST-MODIFIED:20260306T203019Z
UID:6777-1774294200-1774296000@kirche-sausenheim-neuleiningen.de
SUMMARY:House-Kreis
DESCRIPTION:Kurzer Impuls zur Woche
URL:https://kirche-sausenheim-neuleiningen.de/event/house-kreis-9/
LOCATION:St. Peterskirche Sausenheim\, Kirchgasse 11\, Grünstadt\, 67269\, Deutschland
CATEGORIES:Gemeindeleben,Konzert,Musik
END:VEVENT
BEGIN:VEVENT
DTSTART;TZID=Europe/Berlin:20260325T190000
DTEND;TZID=Europe/Berlin:20260325T190000
DTSTAMP:20260426T054055
CREATED:20260306T193446Z
LAST-MODIFIED:20260306T193446Z
UID:6714-1774465200-1774465200@kirche-sausenheim-neuleiningen.de
SUMMARY:Ökum. Passionsandacht
DESCRIPTION:
URL:https://kirche-sausenheim-neuleiningen.de/event/oekum-passionsandacht/
LOCATION:Kreuzkirche Neuleiningen\, Mittelgasse 50\, Neuleiningen\, 67271\, Deutschland
CATEGORIES:Gemeindeleben,Gottesdienst,Musik,Ökumenische Veranstaltung
END:VEVENT
BEGIN:VEVENT
DTSTART;TZID=Europe/Berlin:20260329T090000
DTEND;TZID=Europe/Berlin:20260329T100000
DTSTAMP:20260426T054055
CREATED:20260306T193650Z
LAST-MODIFIED:20260306T193650Z
UID:6716-1774774800-1774778400@kirche-sausenheim-neuleiningen.de
SUMMARY:Gottesdienst
DESCRIPTION:
URL:https://kirche-sausenheim-neuleiningen.de/event/gottesdienst-257/
LOCATION:Kreuzkirche Neuleiningen\, Mittelgasse 50\, Neuleiningen\, 67271\, Deutschland
CATEGORIES:Gemeindeleben,Gottesdienst,Musik
END:VEVENT
BEGIN:VEVENT
DTSTART;TZID=Europe/Berlin:20260329T101500
DTEND;TZID=Europe/Berlin:20260329T110000
DTSTAMP:20260426T054055
CREATED:20260306T194131Z
LAST-MODIFIED:20260306T194131Z
UID:6720-1774779300-1774782000@kirche-sausenheim-neuleiningen.de
SUMMARY:Gottesdienst
DESCRIPTION:
URL:https://kirche-sausenheim-neuleiningen.de/event/gottesdienst-258/
LOCATION:St. Peterskirche Sausenheim\, Kirchgasse 11\, Grünstadt\, 67269\, Deutschland
CATEGORIES:Gemeindeleben,Gottesdienst,Musik
END:VEVENT
BEGIN:VEVENT
DTSTART;TZID=Europe/Berlin:20260330T193000
DTEND;TZID=Europe/Berlin:20260330T200000
DTSTAMP:20260426T054055
CREATED:20260306T203142Z
LAST-MODIFIED:20260306T203142Z
UID:6779-1774899000-1774900800@kirche-sausenheim-neuleiningen.de
SUMMARY:House-Kreis
DESCRIPTION:
URL:https://kirche-sausenheim-neuleiningen.de/event/house-kreis-10/
LOCATION:St. Peterskirche Sausenheim\, Kirchgasse 11\, Grünstadt\, 67269\, Deutschland
CATEGORIES:Gemeindeleben,Konzert,Musik
END:VEVENT
END:VCALENDAR