BEGIN:VCALENDAR
VERSION:2.0
PRODID:-//Protestantische Kirchengemeinde Sausenheim-Neuleiningen - ECPv6.15.20//NONSGML v1.0//EN
CALSCALE:GREGORIAN
METHOD:PUBLISH
X-WR-CALNAME:Protestantische Kirchengemeinde Sausenheim-Neuleiningen
X-ORIGINAL-URL:https://kirche-sausenheim-neuleiningen.de
X-WR-CALDESC:Veranstaltungen für Protestantische Kirchengemeinde Sausenheim-Neuleiningen
REFRESH-INTERVAL;VALUE=DURATION:PT1H
X-Robots-Tag:noindex
X-PUBLISHED-TTL:PT1H
BEGIN:VTIMEZONE
TZID:Europe/Berlin
BEGIN:DAYLIGHT
TZOFFSETFROM:+0100
TZOFFSETTO:+0200
TZNAME:CEST
DTSTART:20240331T010000
END:DAYLIGHT
BEGIN:STANDARD
TZOFFSETFROM:+0200
TZOFFSETTO:+0100
TZNAME:CET
DTSTART:20241027T010000
END:STANDARD
BEGIN:DAYLIGHT
TZOFFSETFROM:+0100
TZOFFSETTO:+0200
TZNAME:CEST
DTSTART:20250330T010000
END:DAYLIGHT
BEGIN:STANDARD
TZOFFSETFROM:+0200
TZOFFSETTO:+0100
TZNAME:CET
DTSTART:20251026T010000
END:STANDARD
BEGIN:DAYLIGHT
TZOFFSETFROM:+0100
TZOFFSETTO:+0200
TZNAME:CEST
DTSTART:20260329T010000
END:DAYLIGHT
BEGIN:STANDARD
TZOFFSETFROM:+0200
TZOFFSETTO:+0100
TZNAME:CET
DTSTART:20261025T010000
END:STANDARD
END:VTIMEZONE
BEGIN:VEVENT
DTSTART;TZID=Europe/Berlin:20250504T090000
DTEND;TZID=Europe/Berlin:20250504T100000
DTSTAMP:20260425T055944
CREATED:20250312T161703Z
LAST-MODIFIED:20250312T161703Z
UID:6374-1746349200-1746352800@kirche-sausenheim-neuleiningen.de
SUMMARY:Gottesdienst
DESCRIPTION:
URL:https://kirche-sausenheim-neuleiningen.de/event/gottesdienst-233/
LOCATION:Kreuzkirche Neuleiningen\, Mittelgasse 50\, Neuleiningen\, 67271\, Deutschland
CATEGORIES:Gemeindeleben,Gottesdienst,Musik
END:VEVENT
BEGIN:VEVENT
DTSTART;TZID=Europe/Berlin:20250504T101500
DTEND;TZID=Europe/Berlin:20250504T110000
DTSTAMP:20260425T055944
CREATED:20250312T160343Z
LAST-MODIFIED:20250312T160343Z
UID:6364-1746353700-1746356400@kirche-sausenheim-neuleiningen.de
SUMMARY:Gottesdienst
DESCRIPTION:
URL:https://kirche-sausenheim-neuleiningen.de/event/gottesdienst-231/
LOCATION:St. Peterskirche Sausenheim\, Kirchgasse 11\, Grünstadt\, 67269\, Deutschland
CATEGORIES:Gemeindeleben,Gottesdienst,Musik
END:VEVENT
BEGIN:VEVENT
DTSTART;TZID=Europe/Berlin:20250509T190000
DTEND;TZID=Europe/Berlin:20250509T220000
DTSTAMP:20260425T055944
CREATED:20250312T165023Z
LAST-MODIFIED:20250312T165023Z
UID:6421-1746817200-1746828000@kirche-sausenheim-neuleiningen.de
SUMMARY:Jugendtreff
DESCRIPTION:
URL:https://kirche-sausenheim-neuleiningen.de/event/jugendtreff-9/
LOCATION:Gemeindehaus Sausenheim\, Kirchgasse 11\, Grünstadt-Sausenheim\, 67269\, Deutschland
CATEGORIES:Gemeindeleben,Jugendtreff
END:VEVENT
BEGIN:VEVENT
DTSTART;TZID=Europe/Berlin:20250511T101500
DTEND;TZID=Europe/Berlin:20250511T110000
DTSTAMP:20260425T055944
CREATED:20250312T160522Z
LAST-MODIFIED:20250312T160522Z
UID:6367-1746958500-1746961200@kirche-sausenheim-neuleiningen.de
SUMMARY:Gottesdienst
DESCRIPTION:
URL:https://kirche-sausenheim-neuleiningen.de/event/gottesdienst-232/
LOCATION:St. Peterskirche Sausenheim\, Kirchgasse 11\, Grünstadt\, 67269\, Deutschland
CATEGORIES:Gemeindeleben,Gottesdienst,Musik
END:VEVENT
BEGIN:VEVENT
DTSTART;TZID=Europe/Berlin:20250518T100000
DTEND;TZID=Europe/Berlin:20250518T110000
DTSTAMP:20260425T055944
CREATED:20250312T161854Z
LAST-MODIFIED:20250312T161854Z
UID:6377-1747562400-1747566000@kirche-sausenheim-neuleiningen.de
SUMMARY:Gottesdienst
DESCRIPTION:
URL:https://kirche-sausenheim-neuleiningen.de/event/gottesdienst-234/
LOCATION:Kreuzkirche Neuleiningen\, Mittelgasse 50\, Neuleiningen\, 67271\, Deutschland
CATEGORIES:Gemeindeleben,Gottesdienst
END:VEVENT
BEGIN:VEVENT
DTSTART;TZID=Europe/Berlin:20250523T190000
DTEND;TZID=Europe/Berlin:20250523T220000
DTSTAMP:20260425T055944
CREATED:20250312T164907Z
LAST-MODIFIED:20250312T164907Z
UID:6418-1748026800-1748037600@kirche-sausenheim-neuleiningen.de
SUMMARY:Jugendtreff
DESCRIPTION:
URL:https://kirche-sausenheim-neuleiningen.de/event/jugendtreff-8/
LOCATION:Gemeindehaus Sausenheim\, Kirchgasse 11\, Grünstadt-Sausenheim\, 67269\, Deutschland
CATEGORIES:Gemeindeleben,Jugendtreff
END:VEVENT
BEGIN:VEVENT
DTSTART;TZID=Europe/Berlin:20250525T100000
DTEND;TZID=Europe/Berlin:20250525T110000
DTSTAMP:20260425T055944
CREATED:20250312T162418Z
LAST-MODIFIED:20250312T162418Z
UID:6386-1748167200-1748170800@kirche-sausenheim-neuleiningen.de
SUMMARY:Ökumenischer Gottesdienst zum Neuleininger Dorfjubiläum
DESCRIPTION:Ort wird noch bekannt gegeben
URL:https://kirche-sausenheim-neuleiningen.de/event/langschlaefer-gottesdienst-10/
CATEGORIES:Gemeindeleben,Gottesdienst
END:VEVENT
BEGIN:VEVENT
DTSTART;TZID=Europe/Berlin:20250529T100000
DTEND;TZID=Europe/Berlin:20250529T110000
DTSTAMP:20260425T055944
CREATED:20250312T162935Z
LAST-MODIFIED:20250312T162935Z
UID:6391-1748512800-1748516400@kirche-sausenheim-neuleiningen.de
SUMMARY:Regionalgottesdienst zu Christi Himmelfahrt
DESCRIPTION:weitere Info entnehmen Sie bitte der Tageszeitung
URL:https://kirche-sausenheim-neuleiningen.de/event/regionalgottesdienst-zu-christi-himmelfahrt/
CATEGORIES:Gottesdienst
END:VEVENT
END:VCALENDAR