BEGIN:VCALENDAR
VERSION:2.0
PRODID:-//Protestantische Kirchengemeinde Sausenheim-Neuleiningen - ECPv6.15.20//NONSGML v1.0//EN
CALSCALE:GREGORIAN
METHOD:PUBLISH
X-WR-CALNAME:Protestantische Kirchengemeinde Sausenheim-Neuleiningen
X-ORIGINAL-URL:https://kirche-sausenheim-neuleiningen.de
X-WR-CALDESC:Veranstaltungen für Protestantische Kirchengemeinde Sausenheim-Neuleiningen
REFRESH-INTERVAL;VALUE=DURATION:PT1H
X-Robots-Tag:noindex
X-PUBLISHED-TTL:PT1H
BEGIN:VTIMEZONE
TZID:Europe/Berlin
BEGIN:DAYLIGHT
TZOFFSETFROM:+0100
TZOFFSETTO:+0200
TZNAME:CEST
DTSTART:20240331T010000
END:DAYLIGHT
BEGIN:STANDARD
TZOFFSETFROM:+0200
TZOFFSETTO:+0100
TZNAME:CET
DTSTART:20241027T010000
END:STANDARD
BEGIN:DAYLIGHT
TZOFFSETFROM:+0100
TZOFFSETTO:+0200
TZNAME:CEST
DTSTART:20250330T010000
END:DAYLIGHT
BEGIN:STANDARD
TZOFFSETFROM:+0200
TZOFFSETTO:+0100
TZNAME:CET
DTSTART:20251026T010000
END:STANDARD
BEGIN:DAYLIGHT
TZOFFSETFROM:+0100
TZOFFSETTO:+0200
TZNAME:CEST
DTSTART:20260329T010000
END:DAYLIGHT
BEGIN:STANDARD
TZOFFSETFROM:+0200
TZOFFSETTO:+0100
TZNAME:CET
DTSTART:20261025T010000
END:STANDARD
END:VTIMEZONE
BEGIN:VEVENT
DTSTART;TZID=Europe/Berlin:20250406T101500
DTEND;TZID=Europe/Berlin:20250406T113000
DTSTAMP:20260425T042903
CREATED:20250312T170015Z
LAST-MODIFIED:20250312T170015Z
UID:6437-1743934500-1743939000@kirche-sausenheim-neuleiningen.de
SUMMARY:Konfirmation II
DESCRIPTION:
URL:https://kirche-sausenheim-neuleiningen.de/event/konfirmation-ii-4/
LOCATION:St. Peterskirche Sausenheim\, Kirchgasse 11\, Grünstadt\, 67269\, Deutschland
CATEGORIES:Gemeindeleben,Gottesdienst,Musik
END:VEVENT
BEGIN:VEVENT
DTSTART;TZID=Europe/Berlin:20250407T193000
DTEND;TZID=Europe/Berlin:20250407T200000
DTSTAMP:20260425T042903
CREATED:20250312T163908Z
LAST-MODIFIED:20250312T163908Z
UID:6403-1744054200-1744056000@kirche-sausenheim-neuleiningen.de
SUMMARY:House Kreis
DESCRIPTION:Elek. Musik \nEntspannung \nSternenhimmel
URL:https://kirche-sausenheim-neuleiningen.de/event/house-kreis-2/
LOCATION:St. Peterskirche Sausenheim\, Kirchgasse 11\, Grünstadt\, 67269\, Deutschland
CATEGORIES:Gemeindeleben,Gottesdienst,Musik
END:VEVENT
BEGIN:VEVENT
DTSTART;TZID=Europe/Berlin:20250411T190000
DTEND;TZID=Europe/Berlin:20250411T220000
DTSTAMP:20260425T042903
CREATED:20250312T165320Z
LAST-MODIFIED:20250312T165320Z
UID:6427-1744398000-1744408800@kirche-sausenheim-neuleiningen.de
SUMMARY:Jugendtreff
DESCRIPTION:
URL:https://kirche-sausenheim-neuleiningen.de/event/jugendtreff-11/
LOCATION:Gemeindehaus Sausenheim\, Kirchgasse 11\, Grünstadt-Sausenheim\, 67269\, Deutschland
CATEGORIES:Gemeindeleben,Jugendtreff
END:VEVENT
BEGIN:VEVENT
DTSTART;TZID=Europe/Berlin:20250413T090000
DTEND;TZID=Europe/Berlin:20250413T100000
DTSTAMP:20260425T042903
CREATED:20250312T170202Z
LAST-MODIFIED:20250312T170202Z
UID:6440-1744534800-1744538400@kirche-sausenheim-neuleiningen.de
SUMMARY:Gottesdienst
DESCRIPTION:
URL:https://kirche-sausenheim-neuleiningen.de/event/gottesdienst-235/
LOCATION:Kreuzkirche Neuleiningen\, Mittelgasse 50\, Neuleiningen\, 67271\, Deutschland
CATEGORIES:Gemeindeleben,Gottesdienst,Musik
END:VEVENT
BEGIN:VEVENT
DTSTART;TZID=Europe/Berlin:20250413T101500
DTEND;TZID=Europe/Berlin:20250413T110000
DTSTAMP:20260425T042903
CREATED:20250312T170547Z
LAST-MODIFIED:20250312T170547Z
UID:6446-1744539300-1744542000@kirche-sausenheim-neuleiningen.de
SUMMARY:Gottesdienst
DESCRIPTION:
URL:https://kirche-sausenheim-neuleiningen.de/event/gottesdienst-236/
LOCATION:St. Peterskirche Sausenheim\, Kirchgasse 11\, Grünstadt\, 67269\, Deutschland
CATEGORIES:Gemeindeleben,Gottesdienst,Musik
END:VEVENT
BEGIN:VEVENT
DTSTART;TZID=Europe/Berlin:20250414T193000
DTEND;TZID=Europe/Berlin:20250414T200000
DTSTAMP:20260425T042903
CREATED:20250312T163712Z
LAST-MODIFIED:20250312T163712Z
UID:6400-1744659000-1744660800@kirche-sausenheim-neuleiningen.de
SUMMARY:House-Kreis
DESCRIPTION:Elektronische Musik \nEntspannung \nSternenhimmel
URL:https://kirche-sausenheim-neuleiningen.de/event/house-kreis/
LOCATION:St. Peterskirche Sausenheim\, Kirchgasse 11\, Grünstadt\, 67269\, Deutschland
CATEGORIES:Gemeindeleben,Gottesdienst,Musik
END:VEVENT
BEGIN:VEVENT
DTSTART;TZID=Europe/Berlin:20250417T190000
DTEND;TZID=Europe/Berlin:20250417T203000
DTSTAMP:20260425T042903
CREATED:20250312T163348Z
LAST-MODIFIED:20250312T163348Z
UID:6397-1744916400-1744921800@kirche-sausenheim-neuleiningen.de
SUMMARY:Gottesdienst mit Tischabendmahl
DESCRIPTION:
URL:https://kirche-sausenheim-neuleiningen.de/event/gottesdienst-mit-tischabendmahl-3/
LOCATION:Gemeindehaus Sausenheim\, Kirchgasse 11\, Grünstadt-Sausenheim\, 67269\, Deutschland
CATEGORIES:Gemeindeleben,Gottesdienst
END:VEVENT
BEGIN:VEVENT
DTSTART;TZID=Europe/Berlin:20250418T090000
DTEND;TZID=Europe/Berlin:20250418T100000
DTSTAMP:20260425T042903
CREATED:20250312T162243Z
LAST-MODIFIED:20250312T162243Z
UID:6383-1744966800-1744970400@kirche-sausenheim-neuleiningen.de
SUMMARY:Gottesdienst zum Karfreitag
DESCRIPTION:
URL:https://kirche-sausenheim-neuleiningen.de/event/gottesdienst-zum-karfreitag-4/
LOCATION:Kreuzkirche Neuleiningen\, Mittelgasse 50\, Neuleiningen\, 67271\, Deutschland
CATEGORIES:Gemeindeleben,Gottesdienst
END:VEVENT
BEGIN:VEVENT
DTSTART;TZID=Europe/Berlin:20250418T101500
DTEND;TZID=Europe/Berlin:20250418T110000
DTSTAMP:20260425T042903
CREATED:20250312T161526Z
LAST-MODIFIED:20250312T161526Z
UID:6371-1744971300-1744974000@kirche-sausenheim-neuleiningen.de
SUMMARY:Gottesdienst zum Karfreitag
DESCRIPTION:
URL:https://kirche-sausenheim-neuleiningen.de/event/gottesdienst-zum-karfreitag-3/
LOCATION:St. Peterskirche Sausenheim\, Kirchgasse 11\, Grünstadt\, 67269\, Deutschland
CATEGORIES:Gemeindeleben,Gottesdienst
END:VEVENT
BEGIN:VEVENT
DTSTART;TZID=Europe/Berlin:20250419T223000
DTEND;TZID=Europe/Berlin:20250419T230000
DTSTAMP:20260425T042903
CREATED:20250312T160122Z
LAST-MODIFIED:20250312T160122Z
UID:6361-1745101800-1745103600@kirche-sausenheim-neuleiningen.de
SUMMARY:Gottesdienst zur Osternacht
DESCRIPTION:
URL:https://kirche-sausenheim-neuleiningen.de/event/gottesdienst-zur-osternacht-4/
LOCATION:St. Peterskirche Sausenheim\, Kirchgasse 11\, Grünstadt\, 67269\, Deutschland
CATEGORIES:Gemeindeleben,Gottesdienst
END:VEVENT
BEGIN:VEVENT
DTSTART;TZID=Europe/Berlin:20250419T223000
DTEND;TZID=Europe/Berlin:20250419T230000
DTSTAMP:20260425T042903
CREATED:20250312T165607Z
LAST-MODIFIED:20250312T165607Z
UID:6433-1745101800-1745103600@kirche-sausenheim-neuleiningen.de
SUMMARY:Posaunenchor
DESCRIPTION:Der Posaunenchor spielt an der Osternacht
URL:https://kirche-sausenheim-neuleiningen.de/event/jugendtreff-13/
LOCATION:St. Peterskirche Sausenheim\, Kirchgasse 11\, Grünstadt\, 67269\, Deutschland
CATEGORIES:Gemeindeleben,Gottesdienst,Konzert,Musik
END:VEVENT
BEGIN:VEVENT
DTSTART;TZID=Europe/Berlin:20250420T100000
DTEND;TZID=Europe/Berlin:20250420T110000
DTSTAMP:20260425T042903
CREATED:20250312T162027Z
LAST-MODIFIED:20250312T162027Z
UID:6380-1745143200-1745146800@kirche-sausenheim-neuleiningen.de
SUMMARY:Gottesdienst am Ostersonntag
DESCRIPTION:
URL:https://kirche-sausenheim-neuleiningen.de/event/gottesdienst-am-ostersonntag-3/
LOCATION:Kreuzkirche Neuleiningen\, Mittelgasse 50\, Neuleiningen\, 67271\, Deutschland
CATEGORIES:Gemeindeleben,Gottesdienst
END:VEVENT
BEGIN:VEVENT
DTSTART;TZID=Europe/Berlin:20250421T101500
DTEND;TZID=Europe/Berlin:20250421T110000
DTSTAMP:20260425T042903
CREATED:20250312T155837Z
LAST-MODIFIED:20250312T155837Z
UID:6358-1745230500-1745233200@kirche-sausenheim-neuleiningen.de
SUMMARY:Gottesdienst am Ostermontag
DESCRIPTION:
URL:https://kirche-sausenheim-neuleiningen.de/event/gottesdienst-am-ostermontag-3/
LOCATION:St. Peterskirche Sausenheim\, Kirchgasse 11\, Grünstadt\, 67269\, Deutschland
CATEGORIES:Gemeindeleben,Gottesdienst,Musik
END:VEVENT
BEGIN:VEVENT
DTSTART;TZID=Europe/Berlin:20250425T190000
DTEND;TZID=Europe/Berlin:20250425T220000
DTSTAMP:20260425T042903
CREATED:20250312T165152Z
LAST-MODIFIED:20250312T165152Z
UID:6424-1745607600-1745618400@kirche-sausenheim-neuleiningen.de
SUMMARY:Jugendtreff
DESCRIPTION:
URL:https://kirche-sausenheim-neuleiningen.de/event/jugendtreff-10/
LOCATION:Gemeindehaus Sausenheim\, Kirchgasse 11\, Grünstadt-Sausenheim\, 67269\, Deutschland
CATEGORIES:Gemeindeleben,Jugendtreff
END:VEVENT
BEGIN:VEVENT
DTSTART;TZID=Europe/Berlin:20250427T101500
DTEND;TZID=Europe/Berlin:20250427T110000
DTSTAMP:20260425T042903
CREATED:20250312T155650Z
LAST-MODIFIED:20250312T155650Z
UID:6355-1745748900-1745751600@kirche-sausenheim-neuleiningen.de
SUMMARY:Gottesdienst
DESCRIPTION:
URL:https://kirche-sausenheim-neuleiningen.de/event/gottesdienst-230/
LOCATION:St. Peterskirche Sausenheim\, Kirchgasse 11\, Grünstadt\, 67269\, Deutschland
CATEGORIES:Gemeindeleben,Gottesdienst,Musik
END:VEVENT
END:VCALENDAR