BEGIN:VCALENDAR
VERSION:2.0
PRODID:-//Protestantische Kirchengemeinde Sausenheim-Neuleiningen - ECPv6.15.20//NONSGML v1.0//EN
CALSCALE:GREGORIAN
METHOD:PUBLISH
X-ORIGINAL-URL:https://kirche-sausenheim-neuleiningen.de
X-WR-CALDESC:Veranstaltungen für Protestantische Kirchengemeinde Sausenheim-Neuleiningen
REFRESH-INTERVAL;VALUE=DURATION:PT1H
X-Robots-Tag:noindex
X-PUBLISHED-TTL:PT1H
BEGIN:VTIMEZONE
TZID:Europe/Berlin
BEGIN:DAYLIGHT
TZOFFSETFROM:+0100
TZOFFSETTO:+0200
TZNAME:CEST
DTSTART:20240331T010000
END:DAYLIGHT
BEGIN:STANDARD
TZOFFSETFROM:+0200
TZOFFSETTO:+0100
TZNAME:CET
DTSTART:20241027T010000
END:STANDARD
BEGIN:DAYLIGHT
TZOFFSETFROM:+0100
TZOFFSETTO:+0200
TZNAME:CEST
DTSTART:20250330T010000
END:DAYLIGHT
BEGIN:STANDARD
TZOFFSETFROM:+0200
TZOFFSETTO:+0100
TZNAME:CET
DTSTART:20251026T010000
END:STANDARD
BEGIN:DAYLIGHT
TZOFFSETFROM:+0100
TZOFFSETTO:+0200
TZNAME:CEST
DTSTART:20260329T010000
END:DAYLIGHT
BEGIN:STANDARD
TZOFFSETFROM:+0200
TZOFFSETTO:+0100
TZNAME:CET
DTSTART:20261025T010000
END:STANDARD
END:VTIMEZONE
BEGIN:VEVENT
DTSTART;TZID=Europe/Berlin:20250119T100000
DTEND;TZID=Europe/Berlin:20250307T110000
DTSTAMP:20260425T015816
CREATED:20241203T141340Z
LAST-MODIFIED:20241203T141340Z
UID:6306-1737280800-1741345200@kirche-sausenheim-neuleiningen.de
SUMMARY:Gottesdienst
DESCRIPTION:
URL:https://kirche-sausenheim-neuleiningen.de/event/gottesdienst-226/
LOCATION:Kreuzkirche Neuleiningen\, Mittelgasse 50\, Neuleiningen\, 67271\, Deutschland
CATEGORIES:Gemeindeleben,Gottesdienst,Musik
END:VEVENT
BEGIN:VEVENT
DTSTART;TZID=Europe/Berlin:20250202T090000
DTEND;TZID=Europe/Berlin:20250202T100000
DTSTAMP:20260425T015816
CREATED:20241203T135328Z
LAST-MODIFIED:20241203T135328Z
UID:6291-1738486800-1738490400@kirche-sausenheim-neuleiningen.de
SUMMARY:Gottesdienst
DESCRIPTION:
URL:https://kirche-sausenheim-neuleiningen.de/event/gottesdienst-225/
LOCATION:Kreuzkirche Neuleiningen\, Mittelgasse 50\, Neuleiningen\, 67271\, Deutschland
CATEGORIES:Gemeindeleben,Gottesdienst,Musik
END:VEVENT
BEGIN:VEVENT
DTSTART;TZID=Europe/Berlin:20250202T101500
DTEND;TZID=Europe/Berlin:20250202T110000
DTSTAMP:20260425T015816
CREATED:20241203T134836Z
LAST-MODIFIED:20241203T134836Z
UID:6282-1738491300-1738494000@kirche-sausenheim-neuleiningen.de
SUMMARY:Gottesdienst
DESCRIPTION:
URL:https://kirche-sausenheim-neuleiningen.de/event/gottesdienst-222/
LOCATION:St. Peterskirche Sausenheim\, Kirchgasse 11\, Grünstadt\, 67269\, Deutschland
CATEGORIES:Gemeindeleben,Gottesdienst,Kindergottesdienst,Musik
END:VEVENT
BEGIN:VEVENT
DTSTART;TZID=Europe/Berlin:20250205T193000
DTEND;TZID=Europe/Berlin:20250205T210000
DTSTAMP:20260425T015816
CREATED:20241203T131419Z
LAST-MODIFIED:20241203T131419Z
UID:6243-1738783800-1738789200@kirche-sausenheim-neuleiningen.de
SUMMARY:Ökumen. Taizé-Singkreis LAUDATE
DESCRIPTION:
URL:https://kirche-sausenheim-neuleiningen.de/event/oekumen-taize-singkreis-laudate-15/
LOCATION:Gemeindehaus Sausenheim\, Kirchgasse 11\, Grünstadt-Sausenheim\, 67269\, Deutschland
CATEGORIES:Gottesdienst,Musik,Ökumenische Veranstaltung
END:VEVENT
BEGIN:VEVENT
DTSTART;TZID=Europe/Berlin:20250209T101500
DTEND;TZID=Europe/Berlin:20250209T110000
DTSTAMP:20260425T015816
CREATED:20241203T135157Z
LAST-MODIFIED:20241203T135157Z
UID:6288-1739096100-1739098800@kirche-sausenheim-neuleiningen.de
SUMMARY:Gottesdienst
DESCRIPTION:
URL:https://kirche-sausenheim-neuleiningen.de/event/gottesdienst-224/
LOCATION:St. Peterskirche Sausenheim\, Kirchgasse 11\, Grünstadt\, 67269\, Deutschland
CATEGORIES:Gemeindeleben,Gottesdienst,Musik
END:VEVENT
BEGIN:VEVENT
DTSTART;TZID=Europe/Berlin:20250216T101500
DTEND;TZID=Europe/Berlin:20250216T110000
DTSTAMP:20260425T015816
CREATED:20241203T135026Z
LAST-MODIFIED:20241203T135026Z
UID:6285-1739700900-1739703600@kirche-sausenheim-neuleiningen.de
SUMMARY:Gottesdienst
DESCRIPTION:
URL:https://kirche-sausenheim-neuleiningen.de/event/gottesdienst-223/
LOCATION:St. Peterskirche Sausenheim\, Kirchgasse 11\, Grünstadt\, 67269\, Deutschland
CATEGORIES:Gemeindeleben,Gottesdienst,Musik
END:VEVENT
BEGIN:VEVENT
DTSTART;TZID=Europe/Berlin:20250219T193000
DTEND;TZID=Europe/Berlin:20250219T210000
DTSTAMP:20260425T015816
CREATED:20241203T131607Z
LAST-MODIFIED:20241203T131607Z
UID:6246-1739993400-1739998800@kirche-sausenheim-neuleiningen.de
SUMMARY:Ökumen. Taizé Singkreis LAUDATE
DESCRIPTION:
URL:https://kirche-sausenheim-neuleiningen.de/event/oekumen-taize-singkreis-laudate-16/
LOCATION:Gemeindehaus Sausenheim\, Kirchgasse 11\, Grünstadt-Sausenheim\, 67269\, Deutschland
CATEGORIES:Gemeindeleben,Gottesdienst,Musik,Ökumenische Veranstaltung
END:VEVENT
BEGIN:VEVENT
DTSTART;TZID=Europe/Berlin:20250223T100000
DTEND;TZID=Europe/Berlin:20250223T110000
DTSTAMP:20260425T015816
CREATED:20241203T133939Z
LAST-MODIFIED:20241203T133939Z
UID:6273-1740304800-1740308400@kirche-sausenheim-neuleiningen.de
SUMMARY:Gottesdienst
DESCRIPTION:
URL:https://kirche-sausenheim-neuleiningen.de/event/gottesdienst-220/
LOCATION:Kreuzkirche Neuleiningen\, Mittelgasse 50\, Neuleiningen\, 67271\, Deutschland
END:VEVENT
BEGIN:VEVENT
DTSTART;TZID=Europe/Berlin:20250223T110000
DTEND;TZID=Europe/Berlin:20250223T120000
DTSTAMP:20260425T015816
CREATED:20241203T132836Z
LAST-MODIFIED:20241203T132836Z
UID:6258-1740308400-1740312000@kirche-sausenheim-neuleiningen.de
SUMMARY:Langschläfer Gottesdienst
DESCRIPTION:
URL:https://kirche-sausenheim-neuleiningen.de/event/langschlaefer-gottesdienst-8/
LOCATION:St. Peterskirche Sausenheim\, Kirchgasse 11\, Grünstadt\, 67269\, Deutschland
CATEGORIES:Gemeindeleben,Gottesdienst,Musik
END:VEVENT
END:VCALENDAR