BEGIN:VCALENDAR
VERSION:2.0
PRODID:-//Protestantische Kirchengemeinde Sausenheim-Neuleiningen - ECPv6.15.20//NONSGML v1.0//EN
CALSCALE:GREGORIAN
METHOD:PUBLISH
X-WR-CALNAME:Protestantische Kirchengemeinde Sausenheim-Neuleiningen
X-ORIGINAL-URL:https://kirche-sausenheim-neuleiningen.de
X-WR-CALDESC:Veranstaltungen für Protestantische Kirchengemeinde Sausenheim-Neuleiningen
REFRESH-INTERVAL;VALUE=DURATION:PT1H
X-Robots-Tag:noindex
X-PUBLISHED-TTL:PT1H
BEGIN:VTIMEZONE
TZID:Europe/Berlin
BEGIN:DAYLIGHT
TZOFFSETFROM:+0100
TZOFFSETTO:+0200
TZNAME:CEST
DTSTART:20230326T010000
END:DAYLIGHT
BEGIN:STANDARD
TZOFFSETFROM:+0200
TZOFFSETTO:+0100
TZNAME:CET
DTSTART:20231029T010000
END:STANDARD
BEGIN:DAYLIGHT
TZOFFSETFROM:+0100
TZOFFSETTO:+0200
TZNAME:CEST
DTSTART:20240331T010000
END:DAYLIGHT
BEGIN:STANDARD
TZOFFSETFROM:+0200
TZOFFSETTO:+0100
TZNAME:CET
DTSTART:20241027T010000
END:STANDARD
BEGIN:DAYLIGHT
TZOFFSETFROM:+0100
TZOFFSETTO:+0200
TZNAME:CEST
DTSTART:20250330T010000
END:DAYLIGHT
BEGIN:STANDARD
TZOFFSETFROM:+0200
TZOFFSETTO:+0100
TZNAME:CET
DTSTART:20251026T010000
END:STANDARD
END:VTIMEZONE
BEGIN:VEVENT
DTSTART;TZID=Europe/Berlin:20241201T090000
DTEND;TZID=Europe/Berlin:20241201T100000
DTSTAMP:20260424T214336
CREATED:20241203T135722Z
LAST-MODIFIED:20241203T135722Z
UID:6297-1733043600-1733047200@kirche-sausenheim-neuleiningen.de
SUMMARY:Gottesdienst zum 1. Advent
DESCRIPTION:
URL:https://kirche-sausenheim-neuleiningen.de/event/gottesdienst-zum-1-advent-4/
LOCATION:Kreuzkirche Neuleiningen\, Mittelgasse 50\, Neuleiningen\, 67271\, Deutschland
CATEGORIES:Gemeindeleben,Gottesdienst,Musik
END:VEVENT
BEGIN:VEVENT
DTSTART;TZID=Europe/Berlin:20241201T101500
DTEND;TZID=Europe/Berlin:20241201T110000
DTSTAMP:20260424T214336
CREATED:20241203T133403Z
LAST-MODIFIED:20241203T133403Z
UID:6267-1733048100-1733050800@kirche-sausenheim-neuleiningen.de
SUMMARY:Gottesdienst 1. Advent
DESCRIPTION:
URL:https://kirche-sausenheim-neuleiningen.de/event/gottesdienst-1-advent/
LOCATION:St. Peterskirche Sausenheim\, Kirchgasse 11\, Grünstadt\, 67269\, Deutschland
CATEGORIES:Gemeindeleben,Kindergottesdienst,Musik
END:VEVENT
BEGIN:VEVENT
DTSTART;TZID=Europe/Berlin:20241204T190000
DTEND;TZID=Europe/Berlin:20241204T200000
DTSTAMP:20260424T214336
CREATED:20241203T133756Z
LAST-MODIFIED:20241203T133756Z
UID:6270-1733338800-1733342400@kirche-sausenheim-neuleiningen.de
SUMMARY:Ökumenische Adventsandacht
DESCRIPTION:
URL:https://kirche-sausenheim-neuleiningen.de/event/oekumenische-adventsandacht-3/
LOCATION:St. Peterskirche Sausenheim\, Kirchgasse 11\, Grünstadt\, 67269\, Deutschland
CATEGORIES:Gemeindeleben,Gottesdienst,Musik,Ökumenische Veranstaltung
END:VEVENT
BEGIN:VEVENT
DTSTART;TZID=Europe/Berlin:20241204T193000
DTEND;TZID=Europe/Berlin:20241204T210000
DTSTAMP:20260424T214336
CREATED:20240909T192057Z
LAST-MODIFIED:20240909T192057Z
UID:6149-1733340600-1733346000@kirche-sausenheim-neuleiningen.de
SUMMARY:Ökumen. Taizé - Singkreis Laudate
DESCRIPTION:
URL:https://kirche-sausenheim-neuleiningen.de/event/oekumen-taize-singkreis-laudate-11/
LOCATION:St. Peterskirche Sausenheim\, Kirchgasse 11\, Grünstadt\, 67269\, Deutschland
CATEGORIES:Gemeindeleben,Gottesdienst,Musik
END:VEVENT
BEGIN:VEVENT
DTSTART;TZID=Europe/Berlin:20241206T190000
DTEND;TZID=Europe/Berlin:20241206T210000
DTSTAMP:20260424T214336
CREATED:20241203T142437Z
LAST-MODIFIED:20241203T142437Z
UID:6321-1733511600-1733518800@kirche-sausenheim-neuleiningen.de
SUMMARY:Jugendtreff
DESCRIPTION:
URL:https://kirche-sausenheim-neuleiningen.de/event/jugendtreff-7/
LOCATION:Gemeindehaus Sausenheim\, Kirchgasse 11\, Grünstadt-Sausenheim\, 67269\, Deutschland
CATEGORIES:Gemeindeleben,Jugendtreff
END:VEVENT
BEGIN:VEVENT
DTSTART;TZID=Europe/Berlin:20241207T170000
DTEND;TZID=Europe/Berlin:20241207T180000
DTSTAMP:20260424T214336
CREATED:20241203T132405Z
LAST-MODIFIED:20241203T132405Z
UID:6252-1733590800-1733594400@kirche-sausenheim-neuleiningen.de
SUMMARY:8geben
DESCRIPTION:Konzert des Vokalensemble „8geben“
URL:https://kirche-sausenheim-neuleiningen.de/event/8geben/
LOCATION:Kreuzkirche Neuleiningen\, Mittelgasse 50\, Neuleiningen\, 67271\, Deutschland
CATEGORIES:Konzert,Musik
END:VEVENT
BEGIN:VEVENT
DTSTART;TZID=Europe/Berlin:20241207T183000
DTEND;TZID=Europe/Berlin:20241207T193000
DTSTAMP:20260424T214336
CREATED:20241203T132601Z
LAST-MODIFIED:20241203T132601Z
UID:6255-1733596200-1733599800@kirche-sausenheim-neuleiningen.de
SUMMARY:8geben
DESCRIPTION:Konzert das Vokalensemble „8geben“
URL:https://kirche-sausenheim-neuleiningen.de/event/8geben-2/
CATEGORIES:Konzert,Musik
END:VEVENT
BEGIN:VEVENT
DTSTART;TZID=Europe/Berlin:20241208T101500
DTEND;TZID=Europe/Berlin:20241208T110000
DTSTAMP:20260424T214336
CREATED:20241203T135516Z
LAST-MODIFIED:20241203T135516Z
UID:6294-1733652900-1733655600@kirche-sausenheim-neuleiningen.de
SUMMARY:Gottesdienst zum 2. Advent
DESCRIPTION:
URL:https://kirche-sausenheim-neuleiningen.de/event/gottesdienst-zum-2-advent-3/
LOCATION:St. Peterskirche Sausenheim\, Kirchgasse 11\, Grünstadt\, 67269\, Deutschland
CATEGORIES:Gemeindeleben,Gottesdienst,Musik
END:VEVENT
BEGIN:VEVENT
DTSTART;TZID=Europe/Berlin:20241211T143000
DTEND;TZID=Europe/Berlin:20241211T170000
DTSTAMP:20260424T214336
CREATED:20240909T201829Z
LAST-MODIFIED:20240909T201829Z
UID:6231-1733927400-1733936400@kirche-sausenheim-neuleiningen.de
SUMMARY:Ökumen. Gemeindenachmittag
DESCRIPTION:
URL:https://kirche-sausenheim-neuleiningen.de/event/oekumen-gemeindenachmittag-5/
LOCATION:Gemeindehaus Sausenheim\, Kirchgasse 11\, Grünstadt-Sausenheim\, 67269\, Deutschland
CATEGORIES:Gemeindeleben,Gemeindenachmittag
END:VEVENT
BEGIN:VEVENT
DTSTART;TZID=Europe/Berlin:20241212T190000
DTEND;TZID=Europe/Berlin:20241212T210000
DTSTAMP:20260424T214336
CREATED:20241203T144006Z
LAST-MODIFIED:20241203T144006Z
UID:6342-1734030000-1734037200@kirche-sausenheim-neuleiningen.de
SUMMARY:Wir warten aufs Christkind
DESCRIPTION:… es ist wieder soweit !!!!! \nMit den Kids vom Ritterstein und Bernhard Vaneceks „Selbsthilfegruppe“ \nEintritt frei!!
URL:https://kirche-sausenheim-neuleiningen.de/event/wir-warten-aufs-christkind-4/
LOCATION:St. Peterskirche Sausenheim\, Kirchgasse 11\, Grünstadt\, 67269\, Deutschland
CATEGORIES:Gemeindeleben,Konzert
END:VEVENT
BEGIN:VEVENT
DTSTART;TZID=Europe/Berlin:20241215T100000
DTEND;TZID=Europe/Berlin:20241215T110000
DTSTAMP:20260424T214336
CREATED:20241203T142641Z
LAST-MODIFIED:20241203T142641Z
UID:6324-1734256800-1734260400@kirche-sausenheim-neuleiningen.de
SUMMARY:Gottesdienst zum 3. Advent
DESCRIPTION:
URL:https://kirche-sausenheim-neuleiningen.de/event/gottesdienst-zum-3-advent/
LOCATION:Kreuzkirche Neuleiningen\, Mittelgasse 50\, Neuleiningen\, 67271\, Deutschland
CATEGORIES:Gemeindeleben,Gottesdienst,Musik
END:VEVENT
BEGIN:VEVENT
DTSTART;TZID=Europe/Berlin:20241215T180000
DTEND;TZID=Europe/Berlin:20241215T190000
DTSTAMP:20260424T214336
CREATED:20241203T142825Z
LAST-MODIFIED:20241203T142825Z
UID:6327-1734285600-1734289200@kirche-sausenheim-neuleiningen.de
SUMMARY:Gottesdienst zum 3. Advent mit Licht aus Bethlehem
DESCRIPTION:
URL:https://kirche-sausenheim-neuleiningen.de/event/gottesdienst-zum-3-advent-mit-licht-aus-bethlehem/
LOCATION:St. Peterskirche Sausenheim\, Kirchgasse 11\, Grünstadt\, 67269\, Deutschland
CATEGORIES:Gemeindeleben,Gottesdienst,Musik
END:VEVENT
BEGIN:VEVENT
DTSTART;TZID=Europe/Berlin:20241218T193000
DTEND;TZID=Europe/Berlin:20241218T210000
DTSTAMP:20260424T214336
CREATED:20240909T191213Z
LAST-MODIFIED:20240909T191213Z
UID:6140-1734550200-1734555600@kirche-sausenheim-neuleiningen.de
SUMMARY:Ökum  Taize Singkreis Laudate
DESCRIPTION:
URL:https://kirche-sausenheim-neuleiningen.de/event/oekum-taize-singkreis-laudate-13/
LOCATION:St. Peterskirche Sausenheim\, Kirchgasse 11\, Grünstadt\, 67269\, Deutschland
CATEGORIES:Gemeindeleben,Gottesdienst,Musik
END:VEVENT
BEGIN:VEVENT
DTSTART;TZID=Europe/Berlin:20241222T101500
DTEND;TZID=Europe/Berlin:20241222T110000
DTSTAMP:20260424T214336
CREATED:20241203T143014Z
LAST-MODIFIED:20241203T143014Z
UID:6330-1734862500-1734865200@kirche-sausenheim-neuleiningen.de
SUMMARY:Gottesdienst zum 4. Advent
DESCRIPTION:
URL:https://kirche-sausenheim-neuleiningen.de/event/gottesdienst-zum-4-advent-3/
LOCATION:St. Peterskirche Sausenheim\, Kirchgasse 11\, Grünstadt\, 67269\, Deutschland
CATEGORIES:Gemeindeleben,Gottesdienst,Musik
END:VEVENT
BEGIN:VEVENT
DTSTART;TZID=Europe/Berlin:20241224T150000
DTEND;TZID=Europe/Berlin:20241224T160000
DTSTAMP:20260424T214336
CREATED:20241203T143226Z
LAST-MODIFIED:20241203T143226Z
UID:6333-1735052400-1735056000@kirche-sausenheim-neuleiningen.de
SUMMARY:Gottesdienst für Familien mit kleinen Kindern zu Heiligabend
DESCRIPTION:
URL:https://kirche-sausenheim-neuleiningen.de/event/gottesdienst-fuer-familien-mit-kleinen-kindern-zu-heiligabend/
LOCATION:St. Peterskirche Sausenheim\, Kirchgasse 11\, Grünstadt\, 67269\, Deutschland
CATEGORIES:Gemeindeleben,Gottesdienst,Musik
END:VEVENT
BEGIN:VEVENT
DTSTART;TZID=Europe/Berlin:20241224T160000
DTEND;TZID=Europe/Berlin:20241224T170000
DTSTAMP:20260424T214336
CREATED:20241203T143639Z
LAST-MODIFIED:20241203T143639Z
UID:6339-1735056000-1735059600@kirche-sausenheim-neuleiningen.de
SUMMARY:Christvesper zu Heiligabend
DESCRIPTION:
URL:https://kirche-sausenheim-neuleiningen.de/event/christvesper-zu-heiligabend-2/
CATEGORIES:Gemeindeleben,Gottesdienst,Musik
END:VEVENT
BEGIN:VEVENT
DTSTART;TZID=Europe/Berlin:20241224T173000
DTEND;TZID=Europe/Berlin:20241224T183000
DTSTAMP:20260424T214336
CREATED:20241203T143456Z
LAST-MODIFIED:20241203T143456Z
UID:6336-1735061400-1735065000@kirche-sausenheim-neuleiningen.de
SUMMARY:Christvesper (Familiengottesdienst) und Krippenspiel zu Heiligabend
DESCRIPTION:
URL:https://kirche-sausenheim-neuleiningen.de/event/christvesper-familiengottesdienst-und-krippenspiel-zu-heiligabend/
LOCATION:St. Peterskirche Sausenheim\, Kirchgasse 11\, Grünstadt\, 67269\, Deutschland
CATEGORIES:Gemeindeleben,Gottesdienst,Musik,Präperanden-Unterricht
END:VEVENT
BEGIN:VEVENT
DTSTART;TZID=Europe/Berlin:20241224T220000
DTEND;TZID=Europe/Berlin:20241224T230000
DTSTAMP:20260424T214336
CREATED:20241203T134355Z
LAST-MODIFIED:20241203T134355Z
UID:6279-1735077600-1735081200@kirche-sausenheim-neuleiningen.de
SUMMARY:Christmette zu Heiligabend
DESCRIPTION:
URL:https://kirche-sausenheim-neuleiningen.de/event/christmette-zu-heiligabend-2/
LOCATION:St. Peterskirche Sausenheim\, Kirchgasse 11\, Grünstadt\, 67269\, Deutschland
CATEGORIES:Gemeindeleben,Gottesdienst,Musik
END:VEVENT
BEGIN:VEVENT
DTSTART;TZID=Europe/Berlin:20241225T100000
DTEND;TZID=Europe/Berlin:20241225T110000
DTSTAMP:20260424T214336
CREATED:20241203T133231Z
LAST-MODIFIED:20241203T133231Z
UID:6264-1735120800-1735124400@kirche-sausenheim-neuleiningen.de
SUMMARY:Gottesdienst zum 1. Weihnachtsfeiertag
DESCRIPTION:
URL:https://kirche-sausenheim-neuleiningen.de/event/gottesdienst-zum-1-weihnachtsfeiertag-2/
LOCATION:Kreuzkirche Neuleiningen\, Mittelgasse 50\, Neuleiningen\, 67271\, Deutschland
CATEGORIES:Gemeindeleben,Gottesdienst,Musik
END:VEVENT
BEGIN:VEVENT
DTSTART;TZID=Europe/Berlin:20241231T160000
DTEND;TZID=Europe/Berlin:20241231T170000
DTSTAMP:20260424T214336
CREATED:20241203T140720Z
LAST-MODIFIED:20241203T140720Z
UID:6300-1735660800-1735664400@kirche-sausenheim-neuleiningen.de
SUMMARY:Gottesdienst zum Jahresabschluss
DESCRIPTION:
URL:https://kirche-sausenheim-neuleiningen.de/event/gottesdienst-zum-jahresabschluss-4/
LOCATION:Kreuzkirche Neuleiningen\, Mittelgasse 50\, Neuleiningen\, 67271\, Deutschland
CATEGORIES:Gemeindeleben,Gottesdienst,Musik
END:VEVENT
BEGIN:VEVENT
DTSTART;TZID=Europe/Berlin:20241231T173000
DTEND;TZID=Europe/Berlin:20241231T183000
DTSTAMP:20260424T214336
CREATED:20241203T141012Z
LAST-MODIFIED:20241203T141012Z
UID:6303-1735666200-1735669800@kirche-sausenheim-neuleiningen.de
SUMMARY:Gottesdienst zum Jahresschluss
DESCRIPTION:
URL:https://kirche-sausenheim-neuleiningen.de/event/gottesdienst-zum-jahresschluss-2/
LOCATION:St. Peterskirche Sausenheim\, Kirchgasse 11\, Grünstadt\, 67269\, Deutschland
CATEGORIES:Gemeindeleben,Gottesdienst,Musik
END:VEVENT
END:VCALENDAR