BEGIN:VCALENDAR
VERSION:2.0
PRODID:-//Protestantische Kirchengemeinde Sausenheim-Neuleiningen - ECPv6.15.20//NONSGML v1.0//EN
CALSCALE:GREGORIAN
METHOD:PUBLISH
X-WR-CALNAME:Protestantische Kirchengemeinde Sausenheim-Neuleiningen
X-ORIGINAL-URL:https://kirche-sausenheim-neuleiningen.de
X-WR-CALDESC:Veranstaltungen für Protestantische Kirchengemeinde Sausenheim-Neuleiningen
REFRESH-INTERVAL;VALUE=DURATION:PT1H
X-Robots-Tag:noindex
X-PUBLISHED-TTL:PT1H
BEGIN:VTIMEZONE
TZID:Europe/Berlin
BEGIN:DAYLIGHT
TZOFFSETFROM:+0100
TZOFFSETTO:+0200
TZNAME:CEST
DTSTART:20230326T010000
END:DAYLIGHT
BEGIN:STANDARD
TZOFFSETFROM:+0200
TZOFFSETTO:+0100
TZNAME:CET
DTSTART:20231029T010000
END:STANDARD
BEGIN:DAYLIGHT
TZOFFSETFROM:+0100
TZOFFSETTO:+0200
TZNAME:CEST
DTSTART:20240331T010000
END:DAYLIGHT
BEGIN:STANDARD
TZOFFSETFROM:+0200
TZOFFSETTO:+0100
TZNAME:CET
DTSTART:20241027T010000
END:STANDARD
BEGIN:DAYLIGHT
TZOFFSETFROM:+0100
TZOFFSETTO:+0200
TZNAME:CEST
DTSTART:20250330T010000
END:DAYLIGHT
BEGIN:STANDARD
TZOFFSETFROM:+0200
TZOFFSETTO:+0100
TZNAME:CET
DTSTART:20251026T010000
END:STANDARD
END:VTIMEZONE
BEGIN:VEVENT
DTSTART;TZID=Europe/Berlin:20240804T090000
DTEND;TZID=Europe/Berlin:20240804T170000
DTSTAMP:20260424T143159
CREATED:20240528T152803Z
LAST-MODIFIED:20240528T152803Z
UID:6030-1722762000-1722790800@kirche-sausenheim-neuleiningen.de
SUMMARY:Gottesdienst
DESCRIPTION:So 04.08. 9.00 Uhr Gottesdienst mit Abendmahl Kreuzkirche Neuleiningen \n10.15 Uhr Gottesdienst Peterskirche Sausenheim
URL:https://kirche-sausenheim-neuleiningen.de/event/gottesdienst-205/
CATEGORIES:Gottesdienst
END:VEVENT
BEGIN:VEVENT
DTSTART;TZID=Europe/Berlin:20240811T100000
DTEND;TZID=Europe/Berlin:20240811T170000
DTSTAMP:20260424T143159
CREATED:20240528T152925Z
LAST-MODIFIED:20240528T152925Z
UID:6033-1723370400-1723395600@kirche-sausenheim-neuleiningen.de
SUMMARY:Gottesdienst
DESCRIPTION:11.08. 10.15 Uhr Gottesdienst Peterskirche Sausenheim
URL:https://kirche-sausenheim-neuleiningen.de/event/gottesdienst-206/
CATEGORIES:Gottesdienst
END:VEVENT
BEGIN:VEVENT
DTSTART;TZID=Europe/Berlin:20240818T100000
DTEND;TZID=Europe/Berlin:20240818T170000
DTSTAMP:20260424T143159
CREATED:20240528T153047Z
LAST-MODIFIED:20240528T153047Z
UID:6036-1723975200-1724000400@kirche-sausenheim-neuleiningen.de
SUMMARY:Gottesdienst
DESCRIPTION:18.08. 10.00 Uhr Gottesdienst Kreuzkirche Neuleiningen \n11.00 Uhr Langschläfer Gottesdienst Peterskirche Sausenheim
URL:https://kirche-sausenheim-neuleiningen.de/event/gottesdienst-207/
CATEGORIES:Gottesdienst
END:VEVENT
BEGIN:VEVENT
DTSTART;TZID=Europe/Berlin:20240825T100000
DTEND;TZID=Europe/Berlin:20240825T170000
DTSTAMP:20260424T143159
CREATED:20240528T153233Z
LAST-MODIFIED:20240528T153233Z
UID:6039-1724580000-1724605200@kirche-sausenheim-neuleiningen.de
SUMMARY:Gottesdienst
DESCRIPTION:25.08. 10.15 Uhr Gottesdienst Peterskirche Sausenheim
URL:https://kirche-sausenheim-neuleiningen.de/event/gottesdienst-208/
CATEGORIES:Gottesdienst
END:VEVENT
BEGIN:VEVENT
DTSTART;TZID=Europe/Berlin:20240828T193000
DTEND;TZID=Europe/Berlin:20240828T200000
DTSTAMP:20260424T143159
CREATED:20240704T162432Z
LAST-MODIFIED:20240704T162432Z
UID:6078-1724873400-1724875200@kirche-sausenheim-neuleiningen.de
SUMMARY:PROJEKTCHOR
DESCRIPTION:Los geht es am Mittwoch um  19.30 Uhr \nVolker Gütermann will jeweils Mittwochs Lieder einstudieren\, die aus den derzeitigen Gesangbücher stammen ( 500 Jahre Evangelisches Gesangbuch\, Gesangbuch Konzert am 11. Oktober) \nWir brauchen Sopran\, Alt\, Tenor und Bass – und gute Laune!
URL:https://kirche-sausenheim-neuleiningen.de/event/projektchor/
LOCATION:St. Peterskirche Sausenheim\, Kirchgasse 11\, Grünstadt\, 67269\, Deutschland
CATEGORIES:Gemeindeleben,Konzert,Musik
END:VEVENT
END:VCALENDAR