BEGIN:VCALENDAR
VERSION:2.0
PRODID:-//Protestantische Kirchengemeinde Sausenheim-Neuleiningen - ECPv6.15.20//NONSGML v1.0//EN
CALSCALE:GREGORIAN
METHOD:PUBLISH
X-ORIGINAL-URL:https://kirche-sausenheim-neuleiningen.de
X-WR-CALDESC:Veranstaltungen für Protestantische Kirchengemeinde Sausenheim-Neuleiningen
REFRESH-INTERVAL;VALUE=DURATION:PT1H
X-Robots-Tag:noindex
X-PUBLISHED-TTL:PT1H
BEGIN:VTIMEZONE
TZID:Europe/Berlin
BEGIN:DAYLIGHT
TZOFFSETFROM:+0100
TZOFFSETTO:+0200
TZNAME:CEST
DTSTART:20230326T010000
END:DAYLIGHT
BEGIN:STANDARD
TZOFFSETFROM:+0200
TZOFFSETTO:+0100
TZNAME:CET
DTSTART:20231029T010000
END:STANDARD
BEGIN:DAYLIGHT
TZOFFSETFROM:+0100
TZOFFSETTO:+0200
TZNAME:CEST
DTSTART:20240331T010000
END:DAYLIGHT
BEGIN:STANDARD
TZOFFSETFROM:+0200
TZOFFSETTO:+0100
TZNAME:CET
DTSTART:20241027T010000
END:STANDARD
BEGIN:DAYLIGHT
TZOFFSETFROM:+0100
TZOFFSETTO:+0200
TZNAME:CEST
DTSTART:20250330T010000
END:DAYLIGHT
BEGIN:STANDARD
TZOFFSETFROM:+0200
TZOFFSETTO:+0100
TZNAME:CET
DTSTART:20251026T010000
END:STANDARD
END:VTIMEZONE
BEGIN:VEVENT
DTSTART;TZID=Europe/Berlin:20240703T193000
DTEND;TZID=Europe/Berlin:20240703T210000
DTSTAMP:20260424T130714
CREATED:20240704T155230Z
LAST-MODIFIED:20240704T155230Z
UID:6056-1720035000-1720040400@kirche-sausenheim-neuleiningen.de
SUMMARY:Ökumen. Taizé-Singkreis LAUDATE
DESCRIPTION:
URL:https://kirche-sausenheim-neuleiningen.de/event/oekumen-taize-singkreis-laudate-7/
LOCATION:St. Peterskirche Sausenheim\, Kirchgasse 11\, Grünstadt\, 67269\, Deutschland
CATEGORIES:Gemeindeleben,Musik,Ökumenische Veranstaltung
END:VEVENT
BEGIN:VEVENT
DTSTART;TZID=Europe/Berlin:20240704T080000
DTEND;TZID=Europe/Berlin:20240704T170000
DTSTAMP:20260424T130714
CREATED:20240303T174242Z
LAST-MODIFIED:20240303T174242Z
UID:5847-1720080000-1720112400@kirche-sausenheim-neuleiningen.de
SUMMARY:Feierabend Treff
DESCRIPTION:
URL:https://kirche-sausenheim-neuleiningen.de/event/feierabend-treff-14/
LOCATION:Zehntscheune an der Sausenheimer Peterskirche\, Kirchgasse 11\, Grünstadt-Sausenheim\, 67269\, Deutschland
CATEGORIES:Gemeindeleben
END:VEVENT
BEGIN:VEVENT
DTSTART;TZID=Europe/Berlin:20240706T180000
DTEND;TZID=Europe/Berlin:20240706T190000
DTSTAMP:20260424T130714
CREATED:20240306T112409Z
LAST-MODIFIED:20240306T112409Z
UID:5935-1720288800-1720292400@kirche-sausenheim-neuleiningen.de
SUMMARY:Rosenkonfirmation
DESCRIPTION:6. Juli 2024 um 18 Uhr Rosenkonfirmation \n  \nNun ist Pfarrer Markutzik schon 10 Jahre hier auf seiner Stelle. Drum haben sich „seine Konfis der ersten Stunde“ dafür ausgesprochen\, dies auch\nin einem Gottesdienst zu feiern. Herausgekommen ist ein Erinnerungsgottesdienst für alle\, die seit 2014 von Pfr. Markutzik konfirmiert wurden. Dieser findet am 6. Juli 2024 um 18 Uhr in (oder an) der Sausenheimer Peterskirche statt. Wer also sehen will\, was aus den Konfis der letzten 10\nJahre geworden ist\, ist herzlich zu diesem Gottesdienst eingeladen!
URL:https://kirche-sausenheim-neuleiningen.de/event/rosenkonfirmation/
END:VEVENT
BEGIN:VEVENT
DTSTART;TZID=Europe/Berlin:20240707T090000
DTEND;TZID=Europe/Berlin:20240707T100000
DTSTAMP:20260424T130714
CREATED:20240704T154134Z
LAST-MODIFIED:20240704T154134Z
UID:6050-1720342800-1720346400@kirche-sausenheim-neuleiningen.de
SUMMARY:Gottesdienst mit Abendmahl
DESCRIPTION:
URL:https://kirche-sausenheim-neuleiningen.de/event/gottesdienst-mit-abendmahl-3/
LOCATION:Kreuzkirche Neuleiningen\, Mittelgasse 50\, Neuleiningen\, 67271\, Deutschland
CATEGORIES:Gemeindeleben,Gottesdienst
END:VEVENT
BEGIN:VEVENT
DTSTART;TZID=Europe/Berlin:20240707T090000
DTEND;TZID=Europe/Berlin:20240707T170000
DTSTAMP:20260424T130714
CREATED:20240528T151327Z
LAST-MODIFIED:20240528T151327Z
UID:6018-1720342800-1720371600@kirche-sausenheim-neuleiningen.de
SUMMARY:Gottesdienst
DESCRIPTION:So 07.07. 9.00 Uhr Gottesdienst mit Abendmahl Kreuzkirche Neuleiningen \n(Der Gottesdienst für Sausenheim entfällt an diesem Sonntag\, da am Abend zuvor der Gottesdienst zur Rosenkonfirmation in der Peterskirche gefeiert wird.)
URL:https://kirche-sausenheim-neuleiningen.de/event/gottesdienst-200/
CATEGORIES:Gottesdienst
END:VEVENT
BEGIN:VEVENT
DTSTART;TZID=Europe/Berlin:20240707T100000
DTEND;TZID=Europe/Berlin:20240707T170000
DTSTAMP:20260424T130714
CREATED:20240528T122202Z
LAST-MODIFIED:20240528T122202Z
UID:5985-1720346400-1720371600@kirche-sausenheim-neuleiningen.de
SUMMARY:Kindergottesdienst
DESCRIPTION:07.07. 10.15 Uhr Kindergottesdienst
URL:https://kirche-sausenheim-neuleiningen.de/event/kindergottesdienst-22/
CATEGORIES:Kindergottesdienst
END:VEVENT
BEGIN:VEVENT
DTSTART;TZID=Europe/Berlin:20240707T101500
DTEND;TZID=Europe/Berlin:20240707T110000
DTSTAMP:20260424T130714
CREATED:20240704T162738Z
LAST-MODIFIED:20240704T162738Z
UID:6081-1720347300-1720350000@kirche-sausenheim-neuleiningen.de
SUMMARY:Kindergottesdienst
DESCRIPTION:
URL:https://kirche-sausenheim-neuleiningen.de/event/kindergottesdienst-23/
LOCATION:St. Peterskirche Sausenheim\, Kirchgasse 11\, Grünstadt\, 67269\, Deutschland
CATEGORIES:Gemeindeleben,Gottesdienst,Kindergottesdienst,Musik
END:VEVENT
BEGIN:VEVENT
DTSTART;TZID=Europe/Berlin:20240711T180000
DTEND;TZID=Europe/Berlin:20240711T223000
DTSTAMP:20260424T130714
CREATED:20240303T174417Z
LAST-MODIFIED:20240303T174417Z
UID:5850-1720720800-1720737000@kirche-sausenheim-neuleiningen.de
SUMMARY:Feierabend Treff
DESCRIPTION:
URL:https://kirche-sausenheim-neuleiningen.de/event/feierabend-treff-15/
LOCATION:Zehntscheune an der Sausenheimer Peterskirche\, Kirchgasse 11\, Grünstadt-Sausenheim\, 67269\, Deutschland
CATEGORIES:Gemeindeleben
END:VEVENT
BEGIN:VEVENT
DTSTART;TZID=Europe/Berlin:20240712T190000
DTEND;TZID=Europe/Berlin:20240712T220000
DTSTAMP:20260424T130714
CREATED:20240704T161059Z
LAST-MODIFIED:20240704T161059Z
UID:6069-1720810800-1720821600@kirche-sausenheim-neuleiningen.de
SUMMARY:Jugendtreff
DESCRIPTION:Raum für Ideen – der neue Jugendtreff
URL:https://kirche-sausenheim-neuleiningen.de/event/jugendtreff-4/
LOCATION:Gemeindehaus Sausenheim\, Kirchgasse 11\, Grünstadt-Sausenheim\, 67269\, Deutschland
CATEGORIES:Gemeindeleben,Jugendtreff,Musik
END:VEVENT
BEGIN:VEVENT
DTSTART;TZID=Europe/Berlin:20240714T100000
DTEND;TZID=Europe/Berlin:20240714T170000
DTSTAMP:20260424T130714
CREATED:20240528T152213Z
LAST-MODIFIED:20240528T152213Z
UID:6021-1720951200-1720976400@kirche-sausenheim-neuleiningen.de
SUMMARY:Gottesdienst
DESCRIPTION:So 14.07. 10.15 Uhr Gottesdienst Peterskirche Sausenheim
URL:https://kirche-sausenheim-neuleiningen.de/event/gottesdienst-201/
CATEGORIES:Gottesdienst
END:VEVENT
BEGIN:VEVENT
DTSTART;TZID=Europe/Berlin:20240721T100000
DTEND;TZID=Europe/Berlin:20240721T170000
DTSTAMP:20260424T130714
CREATED:20240528T152336Z
LAST-MODIFIED:20240528T152336Z
UID:6024-1721556000-1721581200@kirche-sausenheim-neuleiningen.de
SUMMARY:Gottesdienst
DESCRIPTION:So 21.07. 10.00 Uhr Gottesdienst Kreuzkirche Neuleiningen \n11.00 Uhr Gottesdienst August Peterskirche Sausenheim
URL:https://kirche-sausenheim-neuleiningen.de/event/gottesdienst-202/
CATEGORIES:Gottesdienst
END:VEVENT
BEGIN:VEVENT
DTSTART;TZID=Europe/Berlin:20240728T100000
DTEND;TZID=Europe/Berlin:20240728T170000
DTSTAMP:20260424T130714
CREATED:20240528T152702Z
LAST-MODIFIED:20240528T152702Z
UID:6027-1722160800-1722186000@kirche-sausenheim-neuleiningen.de
SUMMARY:Gottesdienst
DESCRIPTION:So 28.07. 10.15 Uhr Gottesdienst Peterskirche Sausenheim
URL:https://kirche-sausenheim-neuleiningen.de/event/gottesdienst-204/
CATEGORIES:Gottesdienst
END:VEVENT
END:VCALENDAR