BEGIN:VCALENDAR
VERSION:2.0
PRODID:-//Protestantische Kirchengemeinde Sausenheim-Neuleiningen - ECPv6.15.20//NONSGML v1.0//EN
CALSCALE:GREGORIAN
METHOD:PUBLISH
X-ORIGINAL-URL:https://kirche-sausenheim-neuleiningen.de
X-WR-CALDESC:Veranstaltungen für Protestantische Kirchengemeinde Sausenheim-Neuleiningen
REFRESH-INTERVAL;VALUE=DURATION:PT1H
X-Robots-Tag:noindex
X-PUBLISHED-TTL:PT1H
BEGIN:VTIMEZONE
TZID:Europe/Berlin
BEGIN:DAYLIGHT
TZOFFSETFROM:+0100
TZOFFSETTO:+0200
TZNAME:CEST
DTSTART:20230326T010000
END:DAYLIGHT
BEGIN:STANDARD
TZOFFSETFROM:+0200
TZOFFSETTO:+0100
TZNAME:CET
DTSTART:20231029T010000
END:STANDARD
BEGIN:DAYLIGHT
TZOFFSETFROM:+0100
TZOFFSETTO:+0200
TZNAME:CEST
DTSTART:20240331T010000
END:DAYLIGHT
BEGIN:STANDARD
TZOFFSETFROM:+0200
TZOFFSETTO:+0100
TZNAME:CET
DTSTART:20241027T010000
END:STANDARD
BEGIN:DAYLIGHT
TZOFFSETFROM:+0100
TZOFFSETTO:+0200
TZNAME:CEST
DTSTART:20250330T010000
END:DAYLIGHT
BEGIN:STANDARD
TZOFFSETFROM:+0200
TZOFFSETTO:+0100
TZNAME:CET
DTSTART:20251026T010000
END:STANDARD
END:VTIMEZONE
BEGIN:VEVENT
DTSTART;TZID=Europe/Berlin:20240602T090000
DTEND;TZID=Europe/Berlin:20240602T170000
DTSTAMP:20260424T143458
CREATED:20240528T150334Z
LAST-MODIFIED:20240528T150334Z
UID:6000-1717318800-1717347600@kirche-sausenheim-neuleiningen.de
SUMMARY:Gottesdienst
DESCRIPTION:So 02.06. 9.00 Uhr Gottesdienst mit Abendmahl Kreuzkirche Neuleiningen \n10.15 Uhr Gottesdienst Peterskirche Sausenheim
URL:https://kirche-sausenheim-neuleiningen.de/event/gottesdienst-195/
CATEGORIES:Gottesdienst
END:VEVENT
BEGIN:VEVENT
DTSTART;TZID=Europe/Berlin:20240605T193000
DTEND;TZID=Europe/Berlin:20240605T210000
DTSTAMP:20260424T143458
CREATED:20240704T155521Z
LAST-MODIFIED:20240704T155521Z
UID:6059-1717615800-1717621200@kirche-sausenheim-neuleiningen.de
SUMMARY:Ökum. Taizé-Singkreis LAUDATE
DESCRIPTION:
URL:https://kirche-sausenheim-neuleiningen.de/event/oekum-taize-singkreis-laudate-12/
LOCATION:St. Peterskirche Sausenheim\, Kirchgasse 11\, Grünstadt\, 67269\, Deutschland
CATEGORIES:Gemeindeleben,Musik,Ökumenische Veranstaltung
END:VEVENT
BEGIN:VEVENT
DTSTART;TZID=Europe/Berlin:20240606T180000
DTEND;TZID=Europe/Berlin:20240606T223000
DTSTAMP:20260424T143458
CREATED:20240303T174550Z
LAST-MODIFIED:20240303T174550Z
UID:5853-1717696800-1717713000@kirche-sausenheim-neuleiningen.de
SUMMARY:Feierabend Treff
DESCRIPTION:
URL:https://kirche-sausenheim-neuleiningen.de/event/feierabend-treff-16/
LOCATION:Zehntscheune an der Sausenheimer Peterskirche\, Kirchgasse 11\, Grünstadt-Sausenheim\, 67269\, Deutschland
CATEGORIES:Gemeindeleben
END:VEVENT
BEGIN:VEVENT
DTSTART;TZID=Europe/Berlin:20240608T080000
DTEND;TZID=Europe/Berlin:20240609T170000
DTSTAMP:20260424T143458
CREATED:20240528T121706Z
LAST-MODIFIED:20240528T121706Z
UID:5979-1717833600-1717952400@kirche-sausenheim-neuleiningen.de
SUMMARY:Kindergottesdienst
DESCRIPTION:08.06. Treffen und Übernachtung im Gemeindehaus
URL:https://kirche-sausenheim-neuleiningen.de/event/kindergottesdienst-20/
END:VEVENT
BEGIN:VEVENT
DTSTART;TZID=Europe/Berlin:20240609T080000
DTEND;TZID=Europe/Berlin:20240609T170000
DTSTAMP:20260424T143458
CREATED:20240528T150721Z
LAST-MODIFIED:20240528T150721Z
UID:6003-1717920000-1717952400@kirche-sausenheim-neuleiningen.de
SUMMARY:Gottesdienst
DESCRIPTION:So 09.06. 10.15 Uhr Familiengottesdienst Peterskirche Sausenheim
URL:https://kirche-sausenheim-neuleiningen.de/event/gottesdienst-196/
CATEGORIES:Gottesdienst
END:VEVENT
BEGIN:VEVENT
DTSTART;TZID=Europe/Berlin:20240609T100000
DTEND;TZID=Europe/Berlin:20240609T170000
DTSTAMP:20260424T143458
CREATED:20240528T121957Z
LAST-MODIFIED:20240528T121957Z
UID:5982-1717927200-1717952400@kirche-sausenheim-neuleiningen.de
SUMMARY:Kindergottesdienst
DESCRIPTION:09.06. 10.15 Uhr Familiengottesdienst
URL:https://kirche-sausenheim-neuleiningen.de/event/kindergottesdienst-21/
CATEGORIES:Kindergottesdienst
END:VEVENT
BEGIN:VEVENT
DTSTART;TZID=Europe/Berlin:20240609T101500
DTEND;TZID=Europe/Berlin:20240609T110000
DTSTAMP:20260424T143458
CREATED:20240704T163038Z
LAST-MODIFIED:20240704T163038Z
UID:6084-1717928100-1717930800@kirche-sausenheim-neuleiningen.de
SUMMARY:Familiengottesdienst
DESCRIPTION:
URL:https://kirche-sausenheim-neuleiningen.de/event/familiengottesdienst-2/
LOCATION:St. Peterskirche Sausenheim\, Kirchgasse 11\, Grünstadt\, 67269\, Deutschland
CATEGORIES:Gemeindeleben,Gottesdienst,Kindergottesdienst
END:VEVENT
BEGIN:VEVENT
DTSTART;TZID=Europe/Berlin:20240612T143000
DTEND;TZID=Europe/Berlin:20240612T170000
DTSTAMP:20260424T143458
CREATED:20240704T154836Z
LAST-MODIFIED:20240704T154836Z
UID:6053-1718202600-1718211600@kirche-sausenheim-neuleiningen.de
SUMMARY:Ökumenischer Gemeindenachmittag
DESCRIPTION:
URL:https://kirche-sausenheim-neuleiningen.de/event/oekumenischer-gemeindenachmittag-3/
LOCATION:Weingut Grün\, Raiffeisenstr. 1\, Grünstadt Sausenheim\, 67269\, Deutschland
CATEGORIES:Gemeindeleben,Gemeindenachmittag,Ökumenische Veranstaltung
END:VEVENT
BEGIN:VEVENT
DTSTART;TZID=Europe/Berlin:20240613T180000
DTEND;TZID=Europe/Berlin:20240613T223000
DTSTAMP:20260424T143458
CREATED:20240303T174721Z
LAST-MODIFIED:20240303T174721Z
UID:5856-1718301600-1718317800@kirche-sausenheim-neuleiningen.de
SUMMARY:Feierabend Treff
DESCRIPTION:
URL:https://kirche-sausenheim-neuleiningen.de/event/feierabend-treff-17/
LOCATION:Zehntscheune an der Sausenheimer Peterskirche\, Kirchgasse 11\, Grünstadt-Sausenheim\, 67269\, Deutschland
CATEGORIES:Gemeindeleben
END:VEVENT
BEGIN:VEVENT
DTSTART;TZID=Europe/Berlin:20240614T190000
DTEND;TZID=Europe/Berlin:20240614T220000
DTSTAMP:20260424T143458
CREATED:20240704T161303Z
LAST-MODIFIED:20240704T161303Z
UID:6072-1718391600-1718402400@kirche-sausenheim-neuleiningen.de
SUMMARY:Jugendtreff
DESCRIPTION:Raum für Ideen  – der neue Jugendtreff
URL:https://kirche-sausenheim-neuleiningen.de/event/jugendtreff-5/
LOCATION:Gemeindehaus Sausenheim\, Kirchgasse 11\, Grünstadt-Sausenheim\, 67269\, Deutschland
CATEGORIES:Gemeindeleben,Jugendtreff,Musik
END:VEVENT
BEGIN:VEVENT
DTSTART;TZID=Europe/Berlin:20240616T080000
DTEND;TZID=Europe/Berlin:20240616T170000
DTSTAMP:20260424T143458
CREATED:20240528T150859Z
LAST-MODIFIED:20240528T150859Z
UID:6006-1718524800-1718557200@kirche-sausenheim-neuleiningen.de
SUMMARY:
DESCRIPTION:So 16.06. 10.00 Uhr Gottesdienst Kreuzkirche Neuleiningen \n11.00 Uhr Langschläfer Gottesdienst Peterskirche Sausenheim
URL:https://kirche-sausenheim-neuleiningen.de/event/6006/
CATEGORIES:Gottesdienst
END:VEVENT
BEGIN:VEVENT
DTSTART;TZID=Europe/Berlin:20240619T193000
DTEND;TZID=Europe/Berlin:20240619T210000
DTSTAMP:20260424T143458
CREATED:20240704T160047Z
LAST-MODIFIED:20240704T160047Z
UID:6063-1718825400-1718830800@kirche-sausenheim-neuleiningen.de
SUMMARY:Ökumen. Taizé - Singkreis LAUDATE
DESCRIPTION:
URL:https://kirche-sausenheim-neuleiningen.de/event/oekumen-taize-singkreis-laudate-8/
LOCATION:Gemeindehaus Sausenheim\, Kirchgasse 11\, Grünstadt-Sausenheim\, 67269\, Deutschland
CATEGORIES:Gemeindeleben,Musik,Ökumenische Veranstaltung
END:VEVENT
BEGIN:VEVENT
DTSTART;TZID=Europe/Berlin:20240620T180000
DTEND;TZID=Europe/Berlin:20240620T223000
DTSTAMP:20260424T143458
CREATED:20240303T173621Z
LAST-MODIFIED:20240303T173621Z
UID:5838-1718906400-1718922600@kirche-sausenheim-neuleiningen.de
SUMMARY:Feierabend-Treff
DESCRIPTION:
URL:https://kirche-sausenheim-neuleiningen.de/event/feierabend-treff-11/
LOCATION:Zehntscheune an der Sausenheimer Peterskirche\, Kirchgasse 11\, Grünstadt-Sausenheim\, 67269\, Deutschland
CATEGORIES:Gemeindeleben
END:VEVENT
BEGIN:VEVENT
DTSTART;TZID=Europe/Berlin:20240623T080000
DTEND;TZID=Europe/Berlin:20240623T170000
DTSTAMP:20260424T143458
CREATED:20240528T150953Z
LAST-MODIFIED:20240528T150953Z
UID:6009-1719129600-1719162000@kirche-sausenheim-neuleiningen.de
SUMMARY:Gottesdienst
DESCRIPTION:So 23.06. 10.15 Uhr Gottesdienst Peterskirche Sausenheim
URL:https://kirche-sausenheim-neuleiningen.de/event/gottesdienst-197/
CATEGORIES:Gottesdienst
END:VEVENT
BEGIN:VEVENT
DTSTART;TZID=Europe/Berlin:20240627T180000
DTEND;TZID=Europe/Berlin:20240627T223000
DTSTAMP:20260424T143458
CREATED:20240303T174123Z
LAST-MODIFIED:20240303T174123Z
UID:5844-1719511200-1719527400@kirche-sausenheim-neuleiningen.de
SUMMARY:Feierabend Treff
DESCRIPTION:
URL:https://kirche-sausenheim-neuleiningen.de/event/feierabend-treff-13/
LOCATION:Zehntscheune an der Sausenheimer Peterskirche\, Kirchgasse 11\, Grünstadt-Sausenheim\, 67269\, Deutschland
CATEGORIES:Gemeindeleben
END:VEVENT
BEGIN:VEVENT
DTSTART;TZID=Europe/Berlin:20240628T190000
DTEND;TZID=Europe/Berlin:20240628T220000
DTSTAMP:20260424T143458
CREATED:20240704T161541Z
LAST-MODIFIED:20240704T161541Z
UID:6075-1719601200-1719612000@kirche-sausenheim-neuleiningen.de
SUMMARY:Jugendtreff
DESCRIPTION:Raum für Ideen – der neue Jugendtreff
URL:https://kirche-sausenheim-neuleiningen.de/event/jugendtreff-6/
LOCATION:Gemeindehaus Sausenheim\, Kirchgasse 11\, Grünstadt-Sausenheim\, 67269\, Deutschland
CATEGORIES:Gemeindeleben,Jugendtreff,Musik
END:VEVENT
BEGIN:VEVENT
DTSTART;TZID=Europe/Berlin:20240630T100000
DTEND;TZID=Europe/Berlin:20240630T120000
DTSTAMP:20260424T143458
CREATED:20240306T112525Z
LAST-MODIFIED:20240306T112525Z
UID:5938-1719741600-1719748800@kirche-sausenheim-neuleiningen.de
SUMMARY:Jubelkonfirmation
DESCRIPTION:Sonntag\, 30. Juni 2024\, um 10.15 Uhr Jubelkonfirmation
URL:https://kirche-sausenheim-neuleiningen.de/event/jubelkonfirmation/
END:VEVENT
BEGIN:VEVENT
DTSTART;TZID=Europe/Berlin:20240630T100000
DTEND;TZID=Europe/Berlin:20240630T170000
DTSTAMP:20260424T143458
CREATED:20240528T151128Z
LAST-MODIFIED:20240528T151128Z
UID:6012-1719741600-1719766800@kirche-sausenheim-neuleiningen.de
SUMMARY:Gottesdienst
DESCRIPTION:So 30.06. 10.15 Uhr Jubelkonfirmation mit Abendmahl Peterskirche Sausenheim
URL:https://kirche-sausenheim-neuleiningen.de/event/gottesdienst-198/
CATEGORIES:Gottesdienst
END:VEVENT
END:VCALENDAR