BEGIN:VCALENDAR
VERSION:2.0
PRODID:-//Protestantische Kirchengemeinde Sausenheim-Neuleiningen - ECPv6.15.20//NONSGML v1.0//EN
CALSCALE:GREGORIAN
METHOD:PUBLISH
X-ORIGINAL-URL:https://kirche-sausenheim-neuleiningen.de
X-WR-CALDESC:Veranstaltungen für Protestantische Kirchengemeinde Sausenheim-Neuleiningen
REFRESH-INTERVAL;VALUE=DURATION:PT1H
X-Robots-Tag:noindex
X-PUBLISHED-TTL:PT1H
BEGIN:VTIMEZONE
TZID:Europe/Berlin
BEGIN:DAYLIGHT
TZOFFSETFROM:+0100
TZOFFSETTO:+0200
TZNAME:CEST
DTSTART:20230326T010000
END:DAYLIGHT
BEGIN:STANDARD
TZOFFSETFROM:+0200
TZOFFSETTO:+0100
TZNAME:CET
DTSTART:20231029T010000
END:STANDARD
BEGIN:DAYLIGHT
TZOFFSETFROM:+0100
TZOFFSETTO:+0200
TZNAME:CEST
DTSTART:20240331T010000
END:DAYLIGHT
BEGIN:STANDARD
TZOFFSETFROM:+0200
TZOFFSETTO:+0100
TZNAME:CET
DTSTART:20241027T010000
END:STANDARD
BEGIN:DAYLIGHT
TZOFFSETFROM:+0100
TZOFFSETTO:+0200
TZNAME:CEST
DTSTART:20250330T010000
END:DAYLIGHT
BEGIN:STANDARD
TZOFFSETFROM:+0200
TZOFFSETTO:+0100
TZNAME:CET
DTSTART:20251026T010000
END:STANDARD
END:VTIMEZONE
BEGIN:VEVENT
DTSTART;TZID=Europe/Berlin:20240505T090000
DTEND;TZID=Europe/Berlin:20240505T100000
DTSTAMP:20260424T101547
CREATED:20240303T142823Z
LAST-MODIFIED:20240303T142823Z
UID:5722-1714899600-1714903200@kirche-sausenheim-neuleiningen.de
SUMMARY:Gottesdienst
DESCRIPTION:
URL:https://kirche-sausenheim-neuleiningen.de/event/gottesdienst-187/
LOCATION:Kreuzkirche Neuleiningen\, Mittelgasse 50\, Neuleiningen\, 67271\, Deutschland
CATEGORIES:Gemeindeleben,Gottesdienst
END:VEVENT
BEGIN:VEVENT
DTSTART;TZID=Europe/Berlin:20240505T101500
DTEND;TZID=Europe/Berlin:20240505T110000
DTSTAMP:20260424T101547
CREATED:20240303T144014Z
LAST-MODIFIED:20240303T144014Z
UID:5740-1714904100-1714906800@kirche-sausenheim-neuleiningen.de
SUMMARY:Gottesdienst
DESCRIPTION:
URL:https://kirche-sausenheim-neuleiningen.de/event/gottesdienst-192/
LOCATION:St. Peterskirche Sausenheim\, Kirchgasse 11\, Grünstadt\, 67269\, Deutschland
CATEGORIES:Gemeindeleben,Gottesdienst
END:VEVENT
BEGIN:VEVENT
DTSTART;TZID=Europe/Berlin:20240505T101500
DTEND;TZID=Europe/Berlin:20240505T110000
DTSTAMP:20260424T101547
CREATED:20240303T152915Z
LAST-MODIFIED:20240303T152915Z
UID:5801-1714904100-1714906800@kirche-sausenheim-neuleiningen.de
SUMMARY:Kindergottesdienst
DESCRIPTION:
URL:https://kirche-sausenheim-neuleiningen.de/event/kindergottesdienst-17/
LOCATION:Gemeindehaus Sausenheim\, Kirchgasse 11\, Grünstadt-Sausenheim\, 67269\, Deutschland
CATEGORIES:Kindergottesdienst
END:VEVENT
BEGIN:VEVENT
DTSTART;TZID=Europe/Berlin:20240508T143000
DTEND;TZID=Europe/Berlin:20240508T160000
DTSTAMP:20260424T101547
CREATED:20240303T152259Z
LAST-MODIFIED:20240303T152259Z
UID:5792-1715178600-1715184000@kirche-sausenheim-neuleiningen.de
SUMMARY:Ökumenischer Gemeindenachmittag
DESCRIPTION:Das Thema ist zwar noch nicht bekannt ….aber es wird bestimmt wieder toll!!!
URL:https://kirche-sausenheim-neuleiningen.de/event/oekumenischer-gemeindenachmittag-2/
LOCATION:Gemeindehaus Sausenheim\, Kirchgasse 11\, Grünstadt-Sausenheim\, 67269\, Deutschland
CATEGORIES:Gemeindeleben,Gemeindenachmittag,Ökumenische Veranstaltung
END:VEVENT
BEGIN:VEVENT
DTSTART;TZID=Europe/Berlin:20240508T193000
DTEND;TZID=Europe/Berlin:20240508T210000
DTSTAMP:20260424T101547
CREATED:20240303T171933Z
LAST-MODIFIED:20240303T171933Z
UID:5814-1715196600-1715202000@kirche-sausenheim-neuleiningen.de
SUMMARY:Ökumen. Taizé Singkreis Laudate
DESCRIPTION:
URL:https://kirche-sausenheim-neuleiningen.de/event/oekumen-taize-singkreis-laudate-2/
LOCATION:Gemeindehaus Sausenheim\, Kirchgasse 11\, Grünstadt-Sausenheim\, 67269\, Deutschland
CATEGORIES:Gemeindeleben,Gottesdienst,Musik,Ökumenische Veranstaltung
END:VEVENT
BEGIN:VEVENT
DTSTART;TZID=Europe/Berlin:20240509T100000
DTEND;TZID=Europe/Berlin:20240509T110000
DTSTAMP:20260424T101547
CREATED:20240303T141017Z
LAST-MODIFIED:20240303T141017Z
UID:5704-1715248800-1715252400@kirche-sausenheim-neuleiningen.de
SUMMARY:Gottesdienst zur Christi Himmelfahrt auf der Asselheimer Weinwanderhütte
DESCRIPTION:
URL:https://kirche-sausenheim-neuleiningen.de/event/gottesdienst-zur-christi-himmelfahrt-auf-der-asselheimer-weinwanderhuette/
LOCATION:Weinwanderhütte in Asselheim
CATEGORIES:Gemeindeleben,Gottesdienst
END:VEVENT
BEGIN:VEVENT
DTSTART;TZID=Europe/Berlin:20240512T101500
DTEND;TZID=Europe/Berlin:20240512T110000
DTSTAMP:20260424T101547
CREATED:20240303T143241Z
LAST-MODIFIED:20240303T143241Z
UID:5728-1715508900-1715511600@kirche-sausenheim-neuleiningen.de
SUMMARY:Gottesdienst
DESCRIPTION:
URL:https://kirche-sausenheim-neuleiningen.de/event/gottesdienst-188/
LOCATION:St. Peterskirche Sausenheim\, Kirchgasse 11\, Grünstadt\, 67269\, Deutschland
CATEGORIES:Gemeindeleben,Gottesdienst
END:VEVENT
BEGIN:VEVENT
DTSTART;TZID=Europe/Berlin:20240516T180000
DTEND;TZID=Europe/Berlin:20240516T223000
DTSTAMP:20260424T101547
CREATED:20240303T173429Z
LAST-MODIFIED:20240303T173429Z
UID:5835-1715882400-1715898600@kirche-sausenheim-neuleiningen.de
SUMMARY:Feierabend-Treff
DESCRIPTION:
URL:https://kirche-sausenheim-neuleiningen.de/event/feierabend-treff-10/
LOCATION:Zehntscheune an der Sausenheimer Peterskirche\, Kirchgasse 11\, Grünstadt-Sausenheim\, 67269\, Deutschland
CATEGORIES:Gemeindeleben
END:VEVENT
BEGIN:VEVENT
DTSTART;TZID=Europe/Berlin:20240519T100000
DTEND;TZID=Europe/Berlin:20240519T113000
DTSTAMP:20260424T101547
CREATED:20240303T144646Z
LAST-MODIFIED:20240303T144646Z
UID:5749-1716112800-1716118200@kirche-sausenheim-neuleiningen.de
SUMMARY:Gottesdienst zu Pfingsten mit Abendmahl
DESCRIPTION:
URL:https://kirche-sausenheim-neuleiningen.de/event/gottesdienst-zu-pfingsten-mit-abendmahl-3/
LOCATION:Kreuzkirche Neuleiningen\, Mittelgasse 50\, Neuleiningen\, 67271\, Deutschland
CATEGORIES:Gemeindeleben,Gottesdienst
END:VEVENT
BEGIN:VEVENT
DTSTART;TZID=Europe/Berlin:20240519T101500
DTEND;TZID=Europe/Berlin:20240519T113000
DTSTAMP:20260424T101547
CREATED:20240303T144452Z
LAST-MODIFIED:20240303T144452Z
UID:5746-1716113700-1716118200@kirche-sausenheim-neuleiningen.de
SUMMARY:Gottesdienst zu Pfingsten mit Abendmahl
DESCRIPTION:
URL:https://kirche-sausenheim-neuleiningen.de/event/gottesdienst-zu-pfingsten-mit-abendmahl-2/
LOCATION:St. Peterskirche Sausenheim\, Kirchgasse 11\, Grünstadt\, 67269\, Deutschland
CATEGORIES:Gemeindeleben,Gottesdienst
END:VEVENT
BEGIN:VEVENT
DTSTART;TZID=Europe/Berlin:20240520T100000
DTEND;TZID=Europe/Berlin:20240520T110000
DTSTAMP:20260424T101547
CREATED:20240303T143056Z
LAST-MODIFIED:20240303T143056Z
UID:5725-1716199200-1716202800@kirche-sausenheim-neuleiningen.de
SUMMARY:Ökum. Regional-Gottesdienst zum Pfingstmontag
DESCRIPTION:in Grünstadt
URL:https://kirche-sausenheim-neuleiningen.de/event/oekum-regional-gottesdienst-zum-pfingstmontag/
CATEGORIES:Gemeindeleben,Gottesdienst,Ökumenische Veranstaltung
END:VEVENT
BEGIN:VEVENT
DTSTART;TZID=Europe/Berlin:20240520T100000
DTEND;TZID=Europe/Berlin:20240520T120000
DTSTAMP:20260424T101547
CREATED:20240306T110534Z
LAST-MODIFIED:20240306T110534Z
UID:5929-1716199200-1716206400@kirche-sausenheim-neuleiningen.de
SUMMARY:Gottesdienst
DESCRIPTION:Mo 20.05. 10.00 Uhr Ökum. Regional-Gottesdienst zum Pfingstmontag in Grünstadt
URL:https://kirche-sausenheim-neuleiningen.de/event/gottesdienst-209/
END:VEVENT
BEGIN:VEVENT
DTSTART;TZID=Europe/Berlin:20240522T193000
DTEND;TZID=Europe/Berlin:20240522T210000
DTSTAMP:20260424T101547
CREATED:20240303T172900Z
LAST-MODIFIED:20240303T172900Z
UID:5826-1716406200-1716411600@kirche-sausenheim-neuleiningen.de
SUMMARY:Ökumen. Taizé Singkreis Laudate
DESCRIPTION:
URL:https://kirche-sausenheim-neuleiningen.de/event/oekumen-taize-singkreis-laudate-6/
LOCATION:Gemeindehaus Sausenheim\, Kirchgasse 11\, Grünstadt-Sausenheim\, 67269\, Deutschland
CATEGORIES:Gemeindeleben,Gottesdienst,Musik,Ökumenische Veranstaltung
END:VEVENT
BEGIN:VEVENT
DTSTART;TZID=Europe/Berlin:20240523T180000
DTEND;TZID=Europe/Berlin:20240523T223000
DTSTAMP:20260424T101547
CREATED:20240303T173934Z
LAST-MODIFIED:20240303T173934Z
UID:5841-1716487200-1716503400@kirche-sausenheim-neuleiningen.de
SUMMARY:Feierabend Treff
DESCRIPTION:
URL:https://kirche-sausenheim-neuleiningen.de/event/feierabend-treff-12/
LOCATION:Zehntscheune an der Sausenheimer Peterskirche\, Kirchgasse 11\, Grünstadt-Sausenheim\, 67269\, Deutschland
CATEGORIES:Gemeindeleben
END:VEVENT
BEGIN:VEVENT
DTSTART;TZID=Europe/Berlin:20240526T100000
DTEND;TZID=Europe/Berlin:20240526T120000
DTSTAMP:20260424T101547
CREATED:20240306T110636Z
LAST-MODIFIED:20240306T110636Z
UID:5932-1716717600-1716724800@kirche-sausenheim-neuleiningen.de
SUMMARY:Gottesdienst
DESCRIPTION:So 26.05. 10.15 Uhr Gottesdienst Peterskirche Sausenheim
URL:https://kirche-sausenheim-neuleiningen.de/event/gottesdienst-210/
END:VEVENT
BEGIN:VEVENT
DTSTART;TZID=Europe/Berlin:20240526T101500
DTEND;TZID=Europe/Berlin:20240526T110000
DTSTAMP:20260424T101548
CREATED:20240303T142248Z
LAST-MODIFIED:20240303T142248Z
UID:5712-1716718500-1716721200@kirche-sausenheim-neuleiningen.de
SUMMARY:Gottesdienst
DESCRIPTION:
URL:https://kirche-sausenheim-neuleiningen.de/event/gottesdienst-185/
LOCATION:St. Peterskirche Sausenheim\, Kirchgasse 11\, Grünstadt\, 67269\, Deutschland
CATEGORIES:Gemeindeleben,Gottesdienst
END:VEVENT
END:VCALENDAR