BEGIN:VCALENDAR
VERSION:2.0
PRODID:-//Protestantische Kirchengemeinde Sausenheim-Neuleiningen - ECPv6.15.20//NONSGML v1.0//EN
CALSCALE:GREGORIAN
METHOD:PUBLISH
X-WR-CALNAME:Protestantische Kirchengemeinde Sausenheim-Neuleiningen
X-ORIGINAL-URL:https://kirche-sausenheim-neuleiningen.de
X-WR-CALDESC:Veranstaltungen für Protestantische Kirchengemeinde Sausenheim-Neuleiningen
REFRESH-INTERVAL;VALUE=DURATION:PT1H
X-Robots-Tag:noindex
X-PUBLISHED-TTL:PT1H
BEGIN:VTIMEZONE
TZID:Europe/Berlin
BEGIN:DAYLIGHT
TZOFFSETFROM:+0100
TZOFFSETTO:+0200
TZNAME:CEST
DTSTART:20230326T010000
END:DAYLIGHT
BEGIN:STANDARD
TZOFFSETFROM:+0200
TZOFFSETTO:+0100
TZNAME:CET
DTSTART:20231029T010000
END:STANDARD
BEGIN:DAYLIGHT
TZOFFSETFROM:+0100
TZOFFSETTO:+0200
TZNAME:CEST
DTSTART:20240331T010000
END:DAYLIGHT
BEGIN:STANDARD
TZOFFSETFROM:+0200
TZOFFSETTO:+0100
TZNAME:CET
DTSTART:20241027T010000
END:STANDARD
BEGIN:DAYLIGHT
TZOFFSETFROM:+0100
TZOFFSETTO:+0200
TZNAME:CEST
DTSTART:20250330T010000
END:DAYLIGHT
BEGIN:STANDARD
TZOFFSETFROM:+0200
TZOFFSETTO:+0100
TZNAME:CET
DTSTART:20251026T010000
END:STANDARD
END:VTIMEZONE
BEGIN:VEVENT
DTSTART;TZID=Europe/Berlin:20240301T190000
DTEND;TZID=Europe/Berlin:20240301T200000
DTSTAMP:20260424T072334
CREATED:20231206T071630Z
LAST-MODIFIED:20231206T071630Z
UID:5571-1709319600-1709323200@kirche-sausenheim-neuleiningen.de
SUMMARY:Gottesdienst zum Weltgebetstag
DESCRIPTION:
URL:https://kirche-sausenheim-neuleiningen.de/event/gottesdienst-zum-weltgebetstag-3/
LOCATION:St. Peterskirche Sausenheim\, Kirchgasse 11\, Grünstadt\, 67269\, Deutschland
CATEGORIES:Gemeindeleben,Gottesdienst
END:VEVENT
BEGIN:VEVENT
DTSTART;TZID=Europe/Berlin:20240303T090000
DTEND;TZID=Europe/Berlin:20240303T100000
DTSTAMP:20260424T072334
CREATED:20240303T145024Z
LAST-MODIFIED:20240303T145024Z
UID:5752-1709456400-1709460000@kirche-sausenheim-neuleiningen.de
SUMMARY:Gottesdienst
DESCRIPTION:
URL:https://kirche-sausenheim-neuleiningen.de/event/gottesdienst-193/
LOCATION:Kreuzkirche Neuleiningen\, Mittelgasse 50\, Neuleiningen\, 67271\, Deutschland
CATEGORIES:Gemeindeleben,Gottesdienst
END:VEVENT
BEGIN:VEVENT
DTSTART;TZID=Europe/Berlin:20240303T101500
DTEND;TZID=Europe/Berlin:20240303T110000
DTSTAMP:20260424T072334
CREATED:20240303T150023Z
LAST-MODIFIED:20240303T150023Z
UID:5767-1709460900-1709463600@kirche-sausenheim-neuleiningen.de
SUMMARY:Vorstellungsgottesdienst
DESCRIPTION:
URL:https://kirche-sausenheim-neuleiningen.de/event/vorstellungsgottesdienst-3/
LOCATION:St. Peterskirche Sausenheim\, Kirchgasse 11\, Grünstadt\, 67269\, Deutschland
CATEGORIES:Gemeindeleben,Gottesdienst,Konfi-Unterricht
END:VEVENT
BEGIN:VEVENT
DTSTART;TZID=Europe/Berlin:20240303T101500
DTEND;TZID=Europe/Berlin:20240303T110000
DTSTAMP:20260424T072334
CREATED:20240303T152755Z
LAST-MODIFIED:20240303T152755Z
UID:5798-1709460900-1709463600@kirche-sausenheim-neuleiningen.de
SUMMARY:Kindergottesdienst
DESCRIPTION:Wer war dieser Jesus? \nUnd wer waren diese Jünger?
URL:https://kirche-sausenheim-neuleiningen.de/event/kindergottesdienst-16/
LOCATION:Gemeindehaus Sausenheim\, Kirchgasse 11\, Grünstadt-Sausenheim\, 67269\, Deutschland
CATEGORIES:Kindergottesdienst
END:VEVENT
BEGIN:VEVENT
DTSTART;TZID=Europe/Berlin:20240306T080000
DTEND;TZID=Europe/Berlin:20240306T170000
DTSTAMP:20260424T072334
CREATED:20240306T105809Z
LAST-MODIFIED:20240306T105809Z
UID:5911-1709712000-1709744400@kirche-sausenheim-neuleiningen.de
SUMMARY:Gottesdienst
DESCRIPTION:So 21.04. 10.00 Uhr Gottesdienst Kreuzkirche Neuleiningen \n                   11.00 Uhr Langschläfer[1]Gottesdienst Peterskirche Sausenheim
URL:https://kirche-sausenheim-neuleiningen.de/event/gottesdienst-203/
END:VEVENT
BEGIN:VEVENT
DTSTART;TZID=Europe/Berlin:20240310T100000
DTEND;TZID=Europe/Berlin:20240310T120000
DTSTAMP:20260424T072334
CREATED:20240306T104423Z
LAST-MODIFIED:20240306T104423Z
UID:5880-1710064800-1710072000@kirche-sausenheim-neuleiningen.de
SUMMARY:Konfirmation
DESCRIPTION:So 10.03. 10.15 Uhr Konfirmation I Peterskirche Sausenheim
URL:https://kirche-sausenheim-neuleiningen.de/event/konfirmation/
END:VEVENT
BEGIN:VEVENT
DTSTART;TZID=Europe/Berlin:20240310T101500
DTEND;TZID=Europe/Berlin:20240310T113000
DTSTAMP:20260424T072334
CREATED:20240303T150219Z
LAST-MODIFIED:20240303T150219Z
UID:5770-1710065700-1710070200@kirche-sausenheim-neuleiningen.de
SUMMARY:Konfirmation I
DESCRIPTION:
URL:https://kirche-sausenheim-neuleiningen.de/event/konfirmation-i-3/
LOCATION:St. Peterskirche Sausenheim\, Kirchgasse 11\, Grünstadt\, 67269\, Deutschland
END:VEVENT
BEGIN:VEVENT
DTSTART;TZID=Europe/Berlin:20240313T143000
DTEND;TZID=Europe/Berlin:20240313T160000
DTSTAMP:20260424T072334
CREATED:20240303T152040Z
LAST-MODIFIED:20240303T152040Z
UID:5789-1710340200-1710345600@kirche-sausenheim-neuleiningen.de
SUMMARY:Ökumenischen Gemeindenachmittag
DESCRIPTION:Werden viele Köpfe rauchen\, wenn das Team zum Gedächnistraining trifft
URL:https://kirche-sausenheim-neuleiningen.de/event/oekumenischen-gemeindenachmittag/
LOCATION:Gemeindehaus Sausenheim\, Kirchgasse 11\, Grünstadt-Sausenheim\, 67269\, Deutschland
CATEGORIES:Gemeindeleben,Gemeindenachmittag,Ökumenische Veranstaltung
END:VEVENT
BEGIN:VEVENT
DTSTART;TZID=Europe/Berlin:20240313T193000
DTEND;TZID=Europe/Berlin:20240313T210000
DTSTAMP:20260424T072334
CREATED:20240303T171729Z
LAST-MODIFIED:20240303T171729Z
UID:5811-1710358200-1710363600@kirche-sausenheim-neuleiningen.de
SUMMARY:Ökumen. Taizé Singkreis Laudate
DESCRIPTION:
URL:https://kirche-sausenheim-neuleiningen.de/event/oekumen-taize-singkreis-laudate/
LOCATION:Gemeindehaus Sausenheim\, Kirchgasse 11\, Grünstadt-Sausenheim\, 67269\, Deutschland
CATEGORIES:Gemeindeleben,Musik,Ökumenische Veranstaltung
END:VEVENT
BEGIN:VEVENT
DTSTART;TZID=Europe/Berlin:20240315T180000
DTEND;TZID=Europe/Berlin:20240315T213000
DTSTAMP:20260424T072334
CREATED:20240303T173035Z
LAST-MODIFIED:20240303T173035Z
UID:5829-1710525600-1710538200@kirche-sausenheim-neuleiningen.de
SUMMARY:Offener Spieleabend
DESCRIPTION:
URL:https://kirche-sausenheim-neuleiningen.de/event/offener-spieleabend-3/
LOCATION:Gemeindehaus Sausenheim\, Kirchgasse 11\, Grünstadt-Sausenheim\, 67269\, Deutschland
CATEGORIES:Gemeindeleben
END:VEVENT
BEGIN:VEVENT
DTSTART;TZID=Europe/Berlin:20240317T101500
DTEND;TZID=Europe/Berlin:20240317T113000
DTSTAMP:20260424T072334
CREATED:20240303T150632Z
LAST-MODIFIED:20240303T150632Z
UID:5776-1710670500-1710675000@kirche-sausenheim-neuleiningen.de
SUMMARY:Konfirmation II
DESCRIPTION:
URL:https://kirche-sausenheim-neuleiningen.de/event/konfirmation-ii-3/
LOCATION:St. Peterskirche Sausenheim\, Kirchgasse 11\, Grünstadt\, 67269\, Deutschland
CATEGORIES:Gemeindeleben,Gottesdienst
END:VEVENT
BEGIN:VEVENT
DTSTART;TZID=Europe/Berlin:20240324T101500
DTEND;TZID=Europe/Berlin:20240324T110000
DTSTAMP:20260424T072334
CREATED:20240303T145709Z
LAST-MODIFIED:20240303T145709Z
UID:5761-1711275300-1711278000@kirche-sausenheim-neuleiningen.de
SUMMARY:Gottesdienst
DESCRIPTION:
URL:https://kirche-sausenheim-neuleiningen.de/event/gottesdienst-194/
LOCATION:St. Peterskirche Sausenheim\, Kirchgasse 11\, Grünstadt\, 67269\, Deutschland
CATEGORIES:Gemeindeleben,Gottesdienst
END:VEVENT
BEGIN:VEVENT
DTSTART;TZID=Europe/Berlin:20240324T101500
DTEND;TZID=Europe/Berlin:20240324T110000
DTSTAMP:20260424T072334
CREATED:20240303T153758Z
LAST-MODIFIED:20240303T153758Z
UID:5808-1711275300-1711278000@kirche-sausenheim-neuleiningen.de
SUMMARY:Kindergottesdienst
DESCRIPTION:
URL:https://kirche-sausenheim-neuleiningen.de/event/kindergottesdienst-19/
LOCATION:Gemeindehaus Sausenheim\, Kirchgasse 11\, Grünstadt-Sausenheim\, 67269\, Deutschland
CATEGORIES:Kindergottesdienst
END:VEVENT
BEGIN:VEVENT
DTSTART;TZID=Europe/Berlin:20240327T193000
DTEND;TZID=Europe/Berlin:20240327T210000
DTSTAMP:20260424T072334
CREATED:20240303T172514Z
LAST-MODIFIED:20240303T172514Z
UID:5820-1711567800-1711573200@kirche-sausenheim-neuleiningen.de
SUMMARY:Ökumen. Taizé Singkreis Laudate
DESCRIPTION:
URL:https://kirche-sausenheim-neuleiningen.de/event/oekumen-taize-singkreis-laudate-4/
LOCATION:Gemeindehaus Sausenheim\, Kirchgasse 11\, Grünstadt-Sausenheim\, 67269\, Deutschland
CATEGORIES:Gemeindeleben,Gottesdienst,Musik,Ökumenische Veranstaltung
END:VEVENT
BEGIN:VEVENT
DTSTART;TZID=Europe/Berlin:20240328T190000
DTEND;TZID=Europe/Berlin:20240328T203000
DTSTAMP:20260424T072334
CREATED:20240303T150849Z
LAST-MODIFIED:20240303T150849Z
UID:5779-1711652400-1711657800@kirche-sausenheim-neuleiningen.de
SUMMARY:Gottesdienst mit Tischabendmahl
DESCRIPTION:
URL:https://kirche-sausenheim-neuleiningen.de/event/gottesdienst-mit-tischabendmahl-2/
LOCATION:Kreuzkirche Neuleiningen\, Mittelgasse 50\, Neuleiningen\, 67271\, Deutschland
CATEGORIES:Gemeindeleben,Gottesdienst
END:VEVENT
BEGIN:VEVENT
DTSTART;TZID=Europe/Berlin:20240329T090000
DTEND;TZID=Europe/Berlin:20240329T100000
DTSTAMP:20260424T072334
CREATED:20240303T150433Z
LAST-MODIFIED:20240303T150433Z
UID:5773-1711702800-1711706400@kirche-sausenheim-neuleiningen.de
SUMMARY:Gottesdienst zum Karfreitag mit Abendmahl
DESCRIPTION:
URL:https://kirche-sausenheim-neuleiningen.de/event/gottesdienst-zum-karfreitag-mit-abendmahl/
LOCATION:Kreuzkirche Neuleiningen\, Mittelgasse 50\, Neuleiningen\, 67271\, Deutschland
CATEGORIES:Gemeindeleben,Gottesdienst
END:VEVENT
BEGIN:VEVENT
DTSTART;TZID=Europe/Berlin:20240329T101500
DTEND;TZID=Europe/Berlin:20240329T110000
DTSTAMP:20260424T072334
CREATED:20240303T151108Z
LAST-MODIFIED:20240303T151108Z
UID:5782-1711707300-1711710000@kirche-sausenheim-neuleiningen.de
SUMMARY:Gottesdienst zum Karfreitag mit Abendmahl
DESCRIPTION:
URL:https://kirche-sausenheim-neuleiningen.de/event/gottesdienst-zum-karfreitag-mit-abendmahl-2/
LOCATION:St. Peterskirche Sausenheim\, Kirchgasse 11\, Grünstadt\, 67269\, Deutschland
CATEGORIES:Gemeindeleben,Gottesdienst
END:VEVENT
BEGIN:VEVENT
DTSTART;TZID=Europe/Berlin:20240330T100000
DTEND;TZID=Europe/Berlin:20240330T140000
DTSTAMP:20260424T072334
CREATED:20240303T175525Z
LAST-MODIFIED:20240303T175525Z
UID:5859-1711792800-1711807200@kirche-sausenheim-neuleiningen.de
SUMMARY:Osterwerkstatt
DESCRIPTION:Gemeinsam wollen wir backen\, basteln und singen und uns auf Ostern freuen \nFür Kinder von 5-11 Jahren \nTeilnahmekosten betragen 5 Euro \nNa und über eine zusätzliche Spende freuen wir uns auch\, denn wir sammeln das Geld für die Konfifahrt nach Malle 🙂 \nBitte um Anmeldung: konfifahrtspendenaktion@gmail.com
URL:https://kirche-sausenheim-neuleiningen.de/event/osterwerkstatt/
LOCATION:Gemeindehaus Sausenheim\, Kirchgasse 11\, Grünstadt-Sausenheim\, 67269\, Deutschland
CATEGORIES:Gemeindeleben,Kindergottesdienst,Konfi-Unterricht,Präperanden-Unterricht
END:VEVENT
BEGIN:VEVENT
DTSTART;TZID=Europe/Berlin:20240330T223000
DTEND;TZID=Europe/Berlin:20240330T230000
DTSTAMP:20260424T072334
CREATED:20240303T145526Z
LAST-MODIFIED:20240303T145526Z
UID:5758-1711837800-1711839600@kirche-sausenheim-neuleiningen.de
SUMMARY:Gottesdienst zur Osternacht
DESCRIPTION:
URL:https://kirche-sausenheim-neuleiningen.de/event/gottesdienst-zur-osternacht-3/
LOCATION:St. Peterskirche Sausenheim\, Kirchgasse 11\, Grünstadt\, 67269\, Deutschland
CATEGORIES:Gemeindeleben,Gottesdienst
END:VEVENT
BEGIN:VEVENT
DTSTART;TZID=Europe/Berlin:20240331T100000
DTEND;TZID=Europe/Berlin:20240331T110000
DTSTAMP:20260424T072334
CREATED:20240303T145235Z
LAST-MODIFIED:20240303T145235Z
UID:5755-1711879200-1711882800@kirche-sausenheim-neuleiningen.de
SUMMARY:Gottesdienst zum Ostersonntag
DESCRIPTION:
URL:https://kirche-sausenheim-neuleiningen.de/event/gottesdienst-zum-ostersonntag/
LOCATION:Kreuzkirche Neuleiningen\, Mittelgasse 50\, Neuleiningen\, 67271\, Deutschland
CATEGORIES:Gemeindeleben,Gottesdienst
END:VEVENT
BEGIN:VEVENT
DTSTART;TZID=Europe/Berlin:20240331T110000
DTEND;TZID=Europe/Berlin:20240331T120000
DTSTAMP:20260424T072334
CREATED:20240303T145852Z
LAST-MODIFIED:20240303T145852Z
UID:5764-1711882800-1711886400@kirche-sausenheim-neuleiningen.de
SUMMARY:Familiengottesdienst zum Ostersonntag
DESCRIPTION:
URL:https://kirche-sausenheim-neuleiningen.de/event/familiengottesdienst-zum-ostersonntag/
LOCATION:St. Peterskirche Sausenheim\, Kirchgasse 11\, Grünstadt\, 67269\, Deutschland
CATEGORIES:Gemeindeleben,Gottesdienst,Kindergottesdienst
END:VEVENT
END:VCALENDAR