BEGIN:VCALENDAR
VERSION:2.0
PRODID:-//Protestantische Kirchengemeinde Sausenheim-Neuleiningen - ECPv6.15.20//NONSGML v1.0//EN
CALSCALE:GREGORIAN
METHOD:PUBLISH
X-ORIGINAL-URL:https://kirche-sausenheim-neuleiningen.de
X-WR-CALDESC:Veranstaltungen für Protestantische Kirchengemeinde Sausenheim-Neuleiningen
REFRESH-INTERVAL;VALUE=DURATION:PT1H
X-Robots-Tag:noindex
X-PUBLISHED-TTL:PT1H
BEGIN:VTIMEZONE
TZID:Europe/Berlin
BEGIN:DAYLIGHT
TZOFFSETFROM:+0100
TZOFFSETTO:+0200
TZNAME:CEST
DTSTART:20230326T010000
END:DAYLIGHT
BEGIN:STANDARD
TZOFFSETFROM:+0200
TZOFFSETTO:+0100
TZNAME:CET
DTSTART:20231029T010000
END:STANDARD
BEGIN:DAYLIGHT
TZOFFSETFROM:+0100
TZOFFSETTO:+0200
TZNAME:CEST
DTSTART:20240331T010000
END:DAYLIGHT
BEGIN:STANDARD
TZOFFSETFROM:+0200
TZOFFSETTO:+0100
TZNAME:CET
DTSTART:20241027T010000
END:STANDARD
BEGIN:DAYLIGHT
TZOFFSETFROM:+0100
TZOFFSETTO:+0200
TZNAME:CEST
DTSTART:20250330T010000
END:DAYLIGHT
BEGIN:STANDARD
TZOFFSETFROM:+0200
TZOFFSETTO:+0100
TZNAME:CET
DTSTART:20251026T010000
END:STANDARD
END:VTIMEZONE
BEGIN:VEVENT
DTSTART;TZID=Europe/Berlin:20240107T080000
DTEND;TZID=Europe/Berlin:20240204T170000
DTSTAMP:20260424T060723
CREATED:20231205T141224Z
LAST-MODIFIED:20231205T141224Z
UID:5521-1704614400-1707066000@kirche-sausenheim-neuleiningen.de
SUMMARY:Kindergottesdienst
DESCRIPTION:Die neuen Termine für den KiGo sind der 07.01.2024 und der 04.02.2023! \nWir freuen und auf Euch!
URL:https://kirche-sausenheim-neuleiningen.de/event/kindergottesdienst-15/
END:VEVENT
BEGIN:VEVENT
DTSTART;TZID=Europe/Berlin:20240204T090000
DTEND;TZID=Europe/Berlin:20240204T100000
DTSTAMP:20260424T060723
CREATED:20231206T071828Z
LAST-MODIFIED:20231206T071828Z
UID:5574-1707037200-1707040800@kirche-sausenheim-neuleiningen.de
SUMMARY:Gottesdienst
DESCRIPTION:
URL:https://kirche-sausenheim-neuleiningen.de/event/gottesdienst-178/
LOCATION:Kreuzkirche Neuleiningen\, Mittelgasse 50\, Neuleiningen\, 67271\, Deutschland
CATEGORIES:Gemeindeleben,Gottesdienst
END:VEVENT
BEGIN:VEVENT
DTSTART;TZID=Europe/Berlin:20240204T101500
DTEND;TZID=Europe/Berlin:20240204T110000
DTSTAMP:20260424T060723
CREATED:20231206T072256Z
LAST-MODIFIED:20231206T072256Z
UID:5580-1707041700-1707044400@kirche-sausenheim-neuleiningen.de
SUMMARY:Gottesdienst
DESCRIPTION:
URL:https://kirche-sausenheim-neuleiningen.de/event/gottesdienst-180/
LOCATION:St. Peterskirche Sausenheim\, Kirchgasse 11\, Grünstadt\, 67269\, Deutschland
CATEGORIES:Gemeindeleben,Gottesdienst
END:VEVENT
BEGIN:VEVENT
DTSTART;TZID=Europe/Berlin:20240211T101500
DTEND;TZID=Europe/Berlin:20240211T110000
DTSTAMP:20260424T060723
CREATED:20231206T073732Z
LAST-MODIFIED:20231206T073732Z
UID:5598-1707646500-1707649200@kirche-sausenheim-neuleiningen.de
SUMMARY:Faschingsgottesdienst
DESCRIPTION:
URL:https://kirche-sausenheim-neuleiningen.de/event/faschingsgottesdienst-3/
LOCATION:St. Peterskirche Sausenheim\, Kirchgasse 11\, Grünstadt\, 67269\, Deutschland
CATEGORIES:Gemeindeleben,Gottesdienst,Musik
END:VEVENT
BEGIN:VEVENT
DTSTART;TZID=Europe/Berlin:20240217T110000
DTEND;TZID=Europe/Berlin:20240217T120000
DTSTAMP:20260424T060723
CREATED:20240303T151513Z
LAST-MODIFIED:20240303T151513Z
UID:5785-1708167600-1708171200@kirche-sausenheim-neuleiningen.de
SUMMARY:Kundgebung für Demokratie und Freiheit
DESCRIPTION:
URL:https://kirche-sausenheim-neuleiningen.de/event/kundgebung-fuer-demokratie-und-freiheit/
LOCATION:Schillerplatz\, Schillerplatz\, Grünstadt\, Deutschland
END:VEVENT
BEGIN:VEVENT
DTSTART;TZID=Europe/Berlin:20240218T100000
DTEND;TZID=Europe/Berlin:20240218T110000
DTSTAMP:20260424T060723
CREATED:20231206T072838Z
LAST-MODIFIED:20231206T072838Z
UID:5586-1708250400-1708254000@kirche-sausenheim-neuleiningen.de
SUMMARY:Gottesdienst
DESCRIPTION:
URL:https://kirche-sausenheim-neuleiningen.de/event/gottesdienst-182/
LOCATION:Kreuzkirche Neuleiningen\, Mittelgasse 50\, Neuleiningen\, 67271\, Deutschland
CATEGORIES:Gemeindeleben,Gottesdienst
END:VEVENT
BEGIN:VEVENT
DTSTART;TZID=Europe/Berlin:20240218T110000
DTEND;TZID=Europe/Berlin:20240218T120000
DTSTAMP:20260424T060723
CREATED:20231206T073925Z
LAST-MODIFIED:20231206T073925Z
UID:5601-1708254000-1708257600@kirche-sausenheim-neuleiningen.de
SUMMARY:Langschläfer Gottesdienst
DESCRIPTION:
URL:https://kirche-sausenheim-neuleiningen.de/event/langschlaefer-gottesdienst-5/
LOCATION:St. Peterskirche Sausenheim\, Kirchgasse 11\, Grünstadt\, 67269\, Deutschland
CATEGORIES:Gemeindeleben,Gottesdienst
END:VEVENT
BEGIN:VEVENT
DTSTART;TZID=Europe/Berlin:20240225T101500
DTEND;TZID=Europe/Berlin:20240225T110000
DTSTAMP:20260424T060723
CREATED:20231206T070810Z
LAST-MODIFIED:20231206T070810Z
UID:5568-1708856100-1708858800@kirche-sausenheim-neuleiningen.de
SUMMARY:Gottesdienst
DESCRIPTION:
URL:https://kirche-sausenheim-neuleiningen.de/event/gottesdienst-177/
LOCATION:St. Peterskirche Sausenheim\, Kirchgasse 11\, Grünstadt\, 67269\, Deutschland
CATEGORIES:Gemeindeleben,Gottesdienst
END:VEVENT
BEGIN:VEVENT
DTSTART;TZID=Europe/Berlin:20240228T193000
DTEND;TZID=Europe/Berlin:20240228T210000
DTSTAMP:20260424T060723
CREATED:20231206T084714Z
LAST-MODIFIED:20231206T084714Z
UID:5666-1709148600-1709154000@kirche-sausenheim-neuleiningen.de
SUMMARY:Taizé - Singkreis Laudate
DESCRIPTION:
URL:https://kirche-sausenheim-neuleiningen.de/event/taize-singkreis-laudate-4/
LOCATION:Gemeindehaus Sausenheim\, Kirchgasse 11\, Grünstadt-Sausenheim\, 67269\, Deutschland
CATEGORIES:Musik,Ökumenische Veranstaltung
END:VEVENT
END:VCALENDAR