BEGIN:VCALENDAR
VERSION:2.0
PRODID:-//Protestantische Kirchengemeinde Sausenheim-Neuleiningen - ECPv6.15.20//NONSGML v1.0//EN
CALSCALE:GREGORIAN
METHOD:PUBLISH
X-ORIGINAL-URL:https://kirche-sausenheim-neuleiningen.de
X-WR-CALDESC:Veranstaltungen für Protestantische Kirchengemeinde Sausenheim-Neuleiningen
REFRESH-INTERVAL;VALUE=DURATION:PT1H
X-Robots-Tag:noindex
X-PUBLISHED-TTL:PT1H
BEGIN:VTIMEZONE
TZID:Europe/Berlin
BEGIN:DAYLIGHT
TZOFFSETFROM:+0100
TZOFFSETTO:+0200
TZNAME:CEST
DTSTART:20220327T010000
END:DAYLIGHT
BEGIN:STANDARD
TZOFFSETFROM:+0200
TZOFFSETTO:+0100
TZNAME:CET
DTSTART:20221030T010000
END:STANDARD
BEGIN:DAYLIGHT
TZOFFSETFROM:+0100
TZOFFSETTO:+0200
TZNAME:CEST
DTSTART:20230326T010000
END:DAYLIGHT
BEGIN:STANDARD
TZOFFSETFROM:+0200
TZOFFSETTO:+0100
TZNAME:CET
DTSTART:20231029T010000
END:STANDARD
BEGIN:DAYLIGHT
TZOFFSETFROM:+0100
TZOFFSETTO:+0200
TZNAME:CEST
DTSTART:20240331T010000
END:DAYLIGHT
BEGIN:STANDARD
TZOFFSETFROM:+0200
TZOFFSETTO:+0100
TZNAME:CET
DTSTART:20241027T010000
END:STANDARD
BEGIN:DAYLIGHT
TZOFFSETFROM:+0100
TZOFFSETTO:+0200
TZNAME:CEST
DTSTART:20250330T010000
END:DAYLIGHT
BEGIN:STANDARD
TZOFFSETFROM:+0200
TZOFFSETTO:+0100
TZNAME:CET
DTSTART:20251026T010000
END:STANDARD
END:VTIMEZONE
BEGIN:VEVENT
DTSTART;VALUE=DATE:20230114
DTEND;VALUE=DATE:20240122
DTSTAMP:20260424T044819
CREATED:20231205T140903Z
LAST-MODIFIED:20231205T140903Z
UID:5517-1673654400-1705881599@kirche-sausenheim-neuleiningen.de
SUMMARY:Allianzsgebetswoche
DESCRIPTION:
URL:https://kirche-sausenheim-neuleiningen.de/event/allianzsgebetswoche/
END:VEVENT
BEGIN:VEVENT
DTSTART;TZID=Europe/Berlin:20240107T080000
DTEND;TZID=Europe/Berlin:20240204T170000
DTSTAMP:20260424T044819
CREATED:20231205T141224Z
LAST-MODIFIED:20231205T141224Z
UID:5521-1704614400-1707066000@kirche-sausenheim-neuleiningen.de
SUMMARY:Kindergottesdienst
DESCRIPTION:Die neuen Termine für den KiGo sind der 07.01.2024 und der 04.02.2023! \nWir freuen und auf Euch!
URL:https://kirche-sausenheim-neuleiningen.de/event/kindergottesdienst-15/
END:VEVENT
BEGIN:VEVENT
DTSTART;TZID=Europe/Berlin:20240107T101500
DTEND;TZID=Europe/Berlin:20240107T110000
DTSTAMP:20260424T044819
CREATED:20231206T072038Z
LAST-MODIFIED:20231206T072038Z
UID:5577-1704622500-1704625200@kirche-sausenheim-neuleiningen.de
SUMMARY:Gottesdienst
DESCRIPTION:
URL:https://kirche-sausenheim-neuleiningen.de/event/gottesdienst-179/
LOCATION:St. Peterskirche Sausenheim\, Kirchgasse 11\, Grünstadt\, 67269\, Deutschland
CATEGORIES:Gemeindeleben,Gottesdienst
END:VEVENT
BEGIN:VEVENT
DTSTART;TZID=Europe/Berlin:20240114T101500
DTEND;TZID=Europe/Berlin:20240114T110000
DTSTAMP:20260424T044819
CREATED:20231206T072537Z
LAST-MODIFIED:20231206T072537Z
UID:5583-1705227300-1705230000@kirche-sausenheim-neuleiningen.de
SUMMARY:Gottesdienst
DESCRIPTION:
URL:https://kirche-sausenheim-neuleiningen.de/event/gottesdienst-181/
LOCATION:St. Peterskirche Sausenheim\, Kirchgasse 11\, Grünstadt\, 67269\, Deutschland
CATEGORIES:Gemeindeleben,Gottesdienst
END:VEVENT
BEGIN:VEVENT
DTSTART;TZID=Europe/Berlin:20240117T193000
DTEND;TZID=Europe/Berlin:20240117T210000
DTSTAMP:20260424T044819
CREATED:20231206T084525Z
LAST-MODIFIED:20231206T084525Z
UID:5663-1705519800-1705525200@kirche-sausenheim-neuleiningen.de
SUMMARY:Taizé Singkreis Laudate
DESCRIPTION:
URL:https://kirche-sausenheim-neuleiningen.de/event/taize-singkreis-laudate-3/
LOCATION:Gemeindehaus Sausenheim\, Kirchgasse 11\, Grünstadt-Sausenheim\, 67269\, Deutschland
CATEGORIES:Musik,Ökumenische Veranstaltung
END:VEVENT
BEGIN:VEVENT
DTSTART;TZID=Europe/Berlin:20240117T193000
DTEND;TZID=Europe/Berlin:20240117T210000
DTSTAMP:20260424T044819
CREATED:20231206T085057Z
LAST-MODIFIED:20231206T085057Z
UID:5670-1705519800-1705525200@kirche-sausenheim-neuleiningen.de
SUMMARY:Taizé Singkreis Laudate
DESCRIPTION:
URL:https://kirche-sausenheim-neuleiningen.de/event/taize-singkreis-laudate-5/
LOCATION:Gemeindehaus Sausenheim\, Kirchgasse 11\, Grünstadt-Sausenheim\, 67269\, Deutschland
CATEGORIES:Musik,Ökumenische Veranstaltung
END:VEVENT
BEGIN:VEVENT
DTSTART;TZID=Europe/Berlin:20240119T180000
DTEND;TZID=Europe/Berlin:20240119T180000
DTSTAMP:20260424T044819
CREATED:20231202T194314Z
LAST-MODIFIED:20231202T194314Z
UID:5476-1705687200-1705687200@kirche-sausenheim-neuleiningen.de
SUMMARY:Spieletreff
DESCRIPTION:
URL:https://kirche-sausenheim-neuleiningen.de/event/spieletreff-2/
END:VEVENT
BEGIN:VEVENT
DTSTART;TZID=Europe/Berlin:20240121T100000
DTEND;TZID=Europe/Berlin:20240121T110000
DTSTAMP:20260424T044819
CREATED:20231206T073115Z
LAST-MODIFIED:20231206T073115Z
UID:5589-1705831200-1705834800@kirche-sausenheim-neuleiningen.de
SUMMARY:Gottesdienst
DESCRIPTION:
URL:https://kirche-sausenheim-neuleiningen.de/event/gottesdienst-183/
LOCATION:Kreuzkirche Neuleiningen\, Mittelgasse 50\, Neuleiningen\, 67271\, Deutschland
CATEGORIES:Gemeindeleben,Gottesdienst
END:VEVENT
BEGIN:VEVENT
DTSTART;TZID=Europe/Berlin:20240121T110000
DTEND;TZID=Europe/Berlin:20240121T120000
DTSTAMP:20260424T044819
CREATED:20231206T073527Z
LAST-MODIFIED:20231206T073527Z
UID:5595-1705834800-1705838400@kirche-sausenheim-neuleiningen.de
SUMMARY:Langschläfer Gottesdienst
DESCRIPTION:
URL:https://kirche-sausenheim-neuleiningen.de/event/langschlaefer-gottesdienst-4/
LOCATION:St. Peterskirche Sausenheim\, Kirchgasse 11\, Grünstadt\, 67269\, Deutschland
CATEGORIES:Gemeindeleben,Kindergottesdienst
END:VEVENT
BEGIN:VEVENT
DTSTART;TZID=Europe/Berlin:20240128T101500
DTEND;TZID=Europe/Berlin:20240128T110000
DTSTAMP:20260424T044819
CREATED:20231206T073318Z
LAST-MODIFIED:20231206T073318Z
UID:5592-1706436900-1706439600@kirche-sausenheim-neuleiningen.de
SUMMARY:Gottesdienst
DESCRIPTION:
URL:https://kirche-sausenheim-neuleiningen.de/event/gottesdienst-184/
LOCATION:St. Peterskirche Sausenheim\, Kirchgasse 11\, Grünstadt\, 67269\, Deutschland
CATEGORIES:Gemeindeleben,Gottesdienst
END:VEVENT
END:VCALENDAR