BEGIN:VCALENDAR
VERSION:2.0
PRODID:-//Protestantische Kirchengemeinde Sausenheim-Neuleiningen - ECPv6.15.20//NONSGML v1.0//EN
CALSCALE:GREGORIAN
METHOD:PUBLISH
X-WR-CALNAME:Protestantische Kirchengemeinde Sausenheim-Neuleiningen
X-ORIGINAL-URL:https://kirche-sausenheim-neuleiningen.de
X-WR-CALDESC:Veranstaltungen für Protestantische Kirchengemeinde Sausenheim-Neuleiningen
REFRESH-INTERVAL;VALUE=DURATION:PT1H
X-Robots-Tag:noindex
X-PUBLISHED-TTL:PT1H
BEGIN:VTIMEZONE
TZID:Europe/Berlin
BEGIN:DAYLIGHT
TZOFFSETFROM:+0100
TZOFFSETTO:+0200
TZNAME:CEST
DTSTART:20220327T010000
END:DAYLIGHT
BEGIN:STANDARD
TZOFFSETFROM:+0200
TZOFFSETTO:+0100
TZNAME:CET
DTSTART:20221030T010000
END:STANDARD
BEGIN:DAYLIGHT
TZOFFSETFROM:+0100
TZOFFSETTO:+0200
TZNAME:CEST
DTSTART:20230326T010000
END:DAYLIGHT
BEGIN:STANDARD
TZOFFSETFROM:+0200
TZOFFSETTO:+0100
TZNAME:CET
DTSTART:20231029T010000
END:STANDARD
BEGIN:DAYLIGHT
TZOFFSETFROM:+0100
TZOFFSETTO:+0200
TZNAME:CEST
DTSTART:20240331T010000
END:DAYLIGHT
BEGIN:STANDARD
TZOFFSETFROM:+0200
TZOFFSETTO:+0100
TZNAME:CET
DTSTART:20241027T010000
END:STANDARD
BEGIN:DAYLIGHT
TZOFFSETFROM:+0100
TZOFFSETTO:+0200
TZNAME:CEST
DTSTART:20250330T010000
END:DAYLIGHT
BEGIN:STANDARD
TZOFFSETFROM:+0200
TZOFFSETTO:+0100
TZNAME:CET
DTSTART:20251026T010000
END:STANDARD
END:VTIMEZONE
BEGIN:VEVENT
DTSTART;VALUE=DATE:20230114
DTEND;VALUE=DATE:20240122
DTSTAMP:20260423T230604
CREATED:20231205T140903Z
LAST-MODIFIED:20231205T140903Z
UID:5517-1673654400-1705881599@kirche-sausenheim-neuleiningen.de
SUMMARY:Allianzsgebetswoche
DESCRIPTION:
URL:https://kirche-sausenheim-neuleiningen.de/event/allianzsgebetswoche/
END:VEVENT
BEGIN:VEVENT
DTSTART;TZID=Europe/Berlin:20231001T110000
DTEND;TZID=Europe/Berlin:20231001T170000
DTSTAMP:20260423T230604
CREATED:20230127T121625Z
LAST-MODIFIED:20230127T121625Z
UID:5119-1696158000-1696179600@kirche-sausenheim-neuleiningen.de
SUMMARY:Ökum. Gottesdienst zum Erntedankfest
DESCRIPTION:Erntedankfest im Weingut Ittel \nmit Erntedankmarkt und Gemeindefest
URL:https://kirche-sausenheim-neuleiningen.de/event/erntedank-und-markt/
LOCATION:Weingut Ittel\, Grünstadt Sausenheim\, 67269\, Deutschland
CATEGORIES:Gemeindeleben,Gemeindenachmittag,Gottesdienst,Ökumenische Veranstaltung
END:VEVENT
BEGIN:VEVENT
DTSTART;TZID=Europe/Berlin:20231008T101500
DTEND;TZID=Europe/Berlin:20231008T110000
DTSTAMP:20260423T230604
CREATED:20230914T150545Z
LAST-MODIFIED:20230914T150545Z
UID:5445-1696760100-1696762800@kirche-sausenheim-neuleiningen.de
SUMMARY:Gottesdienst
DESCRIPTION:
URL:https://kirche-sausenheim-neuleiningen.de/event/gottesdienst-152/
LOCATION:St. Peterskirche Sausenheim\, Kirchgasse 11\, Grünstadt\, 67269\, Deutschland
CATEGORIES:Gemeindeleben,Gottesdienst
END:VEVENT
BEGIN:VEVENT
DTSTART;TZID=Europe/Berlin:20231012T180000
DTEND;TZID=Europe/Berlin:20231012T220000
DTSTAMP:20260423T230604
CREATED:20230127T121205Z
LAST-MODIFIED:20230127T121205Z
UID:5116-1697133600-1697148000@kirche-sausenheim-neuleiningen.de
SUMMARY:Feierabend - Treff
DESCRIPTION:Herbst Edtion
URL:https://kirche-sausenheim-neuleiningen.de/event/feierabend-treff-9/
LOCATION:Zehntscheune an der Sausenheimer Peterskirche\, Kirchgasse 11\, Grünstadt-Sausenheim\, 67269\, Deutschland
CATEGORIES:Gemeindeleben,Ökumenische Veranstaltung
END:VEVENT
BEGIN:VEVENT
DTSTART;TZID=Europe/Berlin:20231015T100000
DTEND;TZID=Europe/Berlin:20231015T110000
DTSTAMP:20260423T230604
CREATED:20230914T150155Z
LAST-MODIFIED:20230914T150155Z
UID:5442-1697364000-1697367600@kirche-sausenheim-neuleiningen.de
SUMMARY:Gottesdienst
DESCRIPTION:
URL:https://kirche-sausenheim-neuleiningen.de/event/gottesdienst-151/
LOCATION:Kreuzkirche Neuleiningen\, Mittelgasse 50\, Neuleiningen\, 67271\, Deutschland
CATEGORIES:Gemeindeleben,Gottesdienst
END:VEVENT
BEGIN:VEVENT
DTSTART;TZID=Europe/Berlin:20231015T110000
DTEND;TZID=Europe/Berlin:20231015T113000
DTSTAMP:20260423T230604
CREATED:20230914T145811Z
LAST-MODIFIED:20230914T145811Z
UID:5439-1697367600-1697369400@kirche-sausenheim-neuleiningen.de
SUMMARY:Gottesdienst
DESCRIPTION:
URL:https://kirche-sausenheim-neuleiningen.de/event/gottesdienst-150/
LOCATION:St. Peterskirche Sausenheim\, Kirchgasse 11\, Grünstadt\, 67269\, Deutschland
CATEGORIES:Gemeindeleben,Gottesdienst
END:VEVENT
BEGIN:VEVENT
DTSTART;TZID=Europe/Berlin:20231022T101500
DTEND;TZID=Europe/Berlin:20231022T110000
DTSTAMP:20260423T230604
CREATED:20230914T145550Z
LAST-MODIFIED:20230914T145550Z
UID:5436-1697969700-1697972400@kirche-sausenheim-neuleiningen.de
SUMMARY:Gottesdienst
DESCRIPTION:
URL:https://kirche-sausenheim-neuleiningen.de/event/gottesdienst-149/
LOCATION:St. Peterskirche Sausenheim\, Kirchgasse 11\, Grünstadt\, 67269\, Deutschland
CATEGORIES:Gemeindeleben,Gottesdienst
END:VEVENT
BEGIN:VEVENT
DTSTART;TZID=Europe/Berlin:20231029T101500
DTEND;TZID=Europe/Berlin:20231029T110000
DTSTAMP:20260423T230604
CREATED:20230914T145357Z
LAST-MODIFIED:20230914T145357Z
UID:5433-1698574500-1698577200@kirche-sausenheim-neuleiningen.de
SUMMARY:Gottesdienst
DESCRIPTION:
URL:https://kirche-sausenheim-neuleiningen.de/event/gottesdienst-148/
LOCATION:St. Peterskirche Sausenheim\, Kirchgasse 11\, Grünstadt\, 67269\, Deutschland
CATEGORIES:Gemeindeleben,Gottesdienst
END:VEVENT
END:VCALENDAR