BEGIN:VCALENDAR
VERSION:2.0
PRODID:-//Protestantische Kirchengemeinde Sausenheim-Neuleiningen - ECPv6.15.20//NONSGML v1.0//EN
CALSCALE:GREGORIAN
METHOD:PUBLISH
X-WR-CALNAME:Protestantische Kirchengemeinde Sausenheim-Neuleiningen
X-ORIGINAL-URL:https://kirche-sausenheim-neuleiningen.de
X-WR-CALDESC:Veranstaltungen für Protestantische Kirchengemeinde Sausenheim-Neuleiningen
REFRESH-INTERVAL;VALUE=DURATION:PT1H
X-Robots-Tag:noindex
X-PUBLISHED-TTL:PT1H
BEGIN:VTIMEZONE
TZID:Europe/Berlin
BEGIN:DAYLIGHT
TZOFFSETFROM:+0100
TZOFFSETTO:+0200
TZNAME:CEST
DTSTART:20230326T010000
END:DAYLIGHT
BEGIN:STANDARD
TZOFFSETFROM:+0200
TZOFFSETTO:+0100
TZNAME:CET
DTSTART:20231029T010000
END:STANDARD
BEGIN:DAYLIGHT
TZOFFSETFROM:+0100
TZOFFSETTO:+0200
TZNAME:CEST
DTSTART:20240331T010000
END:DAYLIGHT
BEGIN:STANDARD
TZOFFSETFROM:+0200
TZOFFSETTO:+0100
TZNAME:CET
DTSTART:20241027T010000
END:STANDARD
BEGIN:DAYLIGHT
TZOFFSETFROM:+0100
TZOFFSETTO:+0200
TZNAME:CEST
DTSTART:20250330T010000
END:DAYLIGHT
BEGIN:STANDARD
TZOFFSETFROM:+0200
TZOFFSETTO:+0100
TZNAME:CET
DTSTART:20251026T010000
END:STANDARD
END:VTIMEZONE
BEGIN:VEVENT
DTSTART;TZID=Europe/Berlin:20240922T101500
DTEND;TZID=Europe/Berlin:20240922T110000
DTSTAMP:20260424T173556
CREATED:20240909T193538Z
LAST-MODIFIED:20240909T193538Z
UID:6170-1727000100-1727002800@kirche-sausenheim-neuleiningen.de
SUMMARY:Ökumen. Gottesdienst zur Neuleininger Kerwe
DESCRIPTION:Der Gottesdienst ist in der kath. Kirche und im Anschluss die Kerweredd und Beisammensein im Pfarrgarten
URL:https://kirche-sausenheim-neuleiningen.de/event/oekumen-gottesdienst-zur-neuleininger-kerwe/
LOCATION:St. Peterskirche Sausenheim\, Kirchgasse 11\, Grünstadt\, 67269\, Deutschland
CATEGORIES:Gemeindeleben,Gottesdienst
END:VEVENT
END:VCALENDAR