BEGIN:VCALENDAR
VERSION:2.0
PRODID:-//Protestantische Kirchengemeinde Sausenheim-Neuleiningen - ECPv6.15.20//NONSGML v1.0//EN
CALSCALE:GREGORIAN
METHOD:PUBLISH
X-ORIGINAL-URL:https://kirche-sausenheim-neuleiningen.de
X-WR-CALDESC:Veranstaltungen für Protestantische Kirchengemeinde Sausenheim-Neuleiningen
REFRESH-INTERVAL;VALUE=DURATION:PT1H
X-Robots-Tag:noindex
X-PUBLISHED-TTL:PT1H
BEGIN:VTIMEZONE
TZID:Europe/Berlin
BEGIN:DAYLIGHT
TZOFFSETFROM:+0100
TZOFFSETTO:+0200
TZNAME:CEST
DTSTART:20230326T010000
END:DAYLIGHT
BEGIN:STANDARD
TZOFFSETFROM:+0200
TZOFFSETTO:+0100
TZNAME:CET
DTSTART:20231029T010000
END:STANDARD
BEGIN:DAYLIGHT
TZOFFSETFROM:+0100
TZOFFSETTO:+0200
TZNAME:CEST
DTSTART:20240331T010000
END:DAYLIGHT
BEGIN:STANDARD
TZOFFSETFROM:+0200
TZOFFSETTO:+0100
TZNAME:CET
DTSTART:20241027T010000
END:STANDARD
BEGIN:DAYLIGHT
TZOFFSETFROM:+0100
TZOFFSETTO:+0200
TZNAME:CEST
DTSTART:20250330T010000
END:DAYLIGHT
BEGIN:STANDARD
TZOFFSETFROM:+0200
TZOFFSETTO:+0100
TZNAME:CET
DTSTART:20251026T010000
END:STANDARD
END:VTIMEZONE
BEGIN:VEVENT
DTSTART;TZID=Europe/Berlin:20240706T180000
DTEND;TZID=Europe/Berlin:20240706T190000
DTSTAMP:20260424T143236
CREATED:20240306T112409Z
LAST-MODIFIED:20240306T112409Z
UID:5935-1720288800-1720292400@kirche-sausenheim-neuleiningen.de
SUMMARY:Rosenkonfirmation
DESCRIPTION:6. Juli 2024 um 18 Uhr Rosenkonfirmation \n  \nNun ist Pfarrer Markutzik schon 10 Jahre hier auf seiner Stelle. Drum haben sich „seine Konfis der ersten Stunde“ dafür ausgesprochen\, dies auch\nin einem Gottesdienst zu feiern. Herausgekommen ist ein Erinnerungsgottesdienst für alle\, die seit 2014 von Pfr. Markutzik konfirmiert wurden. Dieser findet am 6. Juli 2024 um 18 Uhr in (oder an) der Sausenheimer Peterskirche statt. Wer also sehen will\, was aus den Konfis der letzten 10\nJahre geworden ist\, ist herzlich zu diesem Gottesdienst eingeladen!
URL:https://kirche-sausenheim-neuleiningen.de/event/rosenkonfirmation/
END:VEVENT
END:VCALENDAR