BEGIN:VCALENDAR
VERSION:2.0
PRODID:-//Protestantische Kirchengemeinde Sausenheim-Neuleiningen - ECPv6.15.20//NONSGML v1.0//EN
CALSCALE:GREGORIAN
METHOD:PUBLISH
X-WR-CALNAME:Protestantische Kirchengemeinde Sausenheim-Neuleiningen
X-ORIGINAL-URL:https://kirche-sausenheim-neuleiningen.de
X-WR-CALDESC:Veranstaltungen für Protestantische Kirchengemeinde Sausenheim-Neuleiningen
REFRESH-INTERVAL;VALUE=DURATION:PT1H
X-Robots-Tag:noindex
X-PUBLISHED-TTL:PT1H
BEGIN:VTIMEZONE
TZID:Europe/Berlin
BEGIN:DAYLIGHT
TZOFFSETFROM:+0100
TZOFFSETTO:+0200
TZNAME:CEST
DTSTART:20220327T010000
END:DAYLIGHT
BEGIN:STANDARD
TZOFFSETFROM:+0200
TZOFFSETTO:+0100
TZNAME:CET
DTSTART:20221030T010000
END:STANDARD
BEGIN:DAYLIGHT
TZOFFSETFROM:+0100
TZOFFSETTO:+0200
TZNAME:CEST
DTSTART:20230326T010000
END:DAYLIGHT
BEGIN:STANDARD
TZOFFSETFROM:+0200
TZOFFSETTO:+0100
TZNAME:CET
DTSTART:20231029T010000
END:STANDARD
BEGIN:DAYLIGHT
TZOFFSETFROM:+0100
TZOFFSETTO:+0200
TZNAME:CEST
DTSTART:20240331T010000
END:DAYLIGHT
BEGIN:STANDARD
TZOFFSETFROM:+0200
TZOFFSETTO:+0100
TZNAME:CET
DTSTART:20241027T010000
END:STANDARD
BEGIN:DAYLIGHT
TZOFFSETFROM:+0100
TZOFFSETTO:+0200
TZNAME:CEST
DTSTART:20250330T010000
END:DAYLIGHT
BEGIN:STANDARD
TZOFFSETFROM:+0200
TZOFFSETTO:+0100
TZNAME:CET
DTSTART:20251026T010000
END:STANDARD
END:VTIMEZONE
BEGIN:VEVENT
DTSTART;VALUE=DATE:20230114
DTEND;VALUE=DATE:20240122
DTSTAMP:20260424T032029
CREATED:20231205T140903Z
LAST-MODIFIED:20231205T140903Z
UID:5517-1673654400-1705881599@kirche-sausenheim-neuleiningen.de
SUMMARY:Allianzsgebetswoche
DESCRIPTION:
URL:https://kirche-sausenheim-neuleiningen.de/event/allianzsgebetswoche/
END:VEVENT
BEGIN:VEVENT
DTSTART;TZID=Europe/Berlin:20231224T150000
DTEND;TZID=Europe/Berlin:20231224T160000
DTSTAMP:20260424T032029
CREATED:20231206T081203Z
LAST-MODIFIED:20231206T081203Z
UID:5629-1703430000-1703433600@kirche-sausenheim-neuleiningen.de
SUMMARY:Gottesdienst für Familien mit kleinen Kindern
DESCRIPTION:
URL:https://kirche-sausenheim-neuleiningen.de/event/gottesdienst-fuer-familien-mit-kleinen-kindern/
LOCATION:St. Peterskirche Sausenheim\, Kirchgasse 11\, Grünstadt\, 67269\, Deutschland
CATEGORIES:Gemeindeleben,Gottesdienst,Kindergottesdienst
END:VEVENT
BEGIN:VEVENT
DTSTART;TZID=Europe/Berlin:20231224T160000
DTEND;TZID=Europe/Berlin:20231224T170000
DTSTAMP:20260424T032029
CREATED:20231206T081417Z
LAST-MODIFIED:20231206T081417Z
UID:5632-1703433600-1703437200@kirche-sausenheim-neuleiningen.de
SUMMARY:Christvesper (Familiengottesdient) zu Heiligabend
DESCRIPTION:
URL:https://kirche-sausenheim-neuleiningen.de/event/christvesper-familiengottesdient-zu-heiligabend/
LOCATION:St. Peterskirche Sausenheim\, Kirchgasse 11\, Grünstadt\, 67269\, Deutschland
CATEGORIES:Gemeindeleben,Gottesdienst
END:VEVENT
BEGIN:VEVENT
DTSTART;TZID=Europe/Berlin:20231224T173000
DTEND;TZID=Europe/Berlin:20231224T180000
DTSTAMP:20260424T032029
CREATED:20231206T081818Z
LAST-MODIFIED:20231206T081818Z
UID:5635-1703439000-1703440800@kirche-sausenheim-neuleiningen.de
SUMMARY:Christvesper zu Heiligabend
DESCRIPTION:Open Air im Burghof oder in der Burgkirche
URL:https://kirche-sausenheim-neuleiningen.de/event/christvesper-zu-heiligabend/
LOCATION:Burghof Neuleiningen\, Neuleiningen\, Deutschland
CATEGORIES:Gemeindeleben,Gottesdienst
END:VEVENT
BEGIN:VEVENT
DTSTART;TZID=Europe/Berlin:20231224T220000
DTEND;TZID=Europe/Berlin:20231224T230000
DTSTAMP:20260424T032029
CREATED:20231206T082107Z
LAST-MODIFIED:20231206T082107Z
UID:5638-1703455200-1703458800@kirche-sausenheim-neuleiningen.de
SUMMARY:Christmette zu Heiligabend
DESCRIPTION:
URL:https://kirche-sausenheim-neuleiningen.de/event/christmette-zu-heiligabend/
LOCATION:St. Peterskirche Sausenheim\, Kirchgasse 11\, Grünstadt\, 67269\, Deutschland
CATEGORIES:Gemeindeleben,Gottesdienst
END:VEVENT
END:VCALENDAR