BEGIN:VCALENDAR
VERSION:2.0
PRODID:-//Protestantische Kirchengemeinde Sausenheim-Neuleiningen - ECPv6.15.20//NONSGML v1.0//EN
CALSCALE:GREGORIAN
METHOD:PUBLISH
X-ORIGINAL-URL:https://kirche-sausenheim-neuleiningen.de
X-WR-CALDESC:Veranstaltungen für Protestantische Kirchengemeinde Sausenheim-Neuleiningen
REFRESH-INTERVAL;VALUE=DURATION:PT1H
X-Robots-Tag:noindex
X-PUBLISHED-TTL:PT1H
BEGIN:VTIMEZONE
TZID:Europe/Berlin
BEGIN:DAYLIGHT
TZOFFSETFROM:+0100
TZOFFSETTO:+0200
TZNAME:CEST
DTSTART:20220327T010000
END:DAYLIGHT
BEGIN:STANDARD
TZOFFSETFROM:+0200
TZOFFSETTO:+0100
TZNAME:CET
DTSTART:20221030T010000
END:STANDARD
BEGIN:DAYLIGHT
TZOFFSETFROM:+0100
TZOFFSETTO:+0200
TZNAME:CEST
DTSTART:20230326T010000
END:DAYLIGHT
BEGIN:STANDARD
TZOFFSETFROM:+0200
TZOFFSETTO:+0100
TZNAME:CET
DTSTART:20231029T010000
END:STANDARD
BEGIN:DAYLIGHT
TZOFFSETFROM:+0100
TZOFFSETTO:+0200
TZNAME:CEST
DTSTART:20240331T010000
END:DAYLIGHT
BEGIN:STANDARD
TZOFFSETFROM:+0200
TZOFFSETTO:+0100
TZNAME:CET
DTSTART:20241027T010000
END:STANDARD
BEGIN:DAYLIGHT
TZOFFSETFROM:+0100
TZOFFSETTO:+0200
TZNAME:CEST
DTSTART:20250330T010000
END:DAYLIGHT
BEGIN:STANDARD
TZOFFSETFROM:+0200
TZOFFSETTO:+0100
TZNAME:CET
DTSTART:20251026T010000
END:STANDARD
END:VTIMEZONE
BEGIN:VEVENT
DTSTART;VALUE=DATE:20230114
DTEND;VALUE=DATE:20240122
DTSTAMP:20260424T015444
CREATED:20231205T140903Z
LAST-MODIFIED:20231205T140903Z
UID:5517-1673654400-1705881599@kirche-sausenheim-neuleiningen.de
SUMMARY:Allianzsgebetswoche
DESCRIPTION:
URL:https://kirche-sausenheim-neuleiningen.de/event/allianzsgebetswoche/
END:VEVENT
BEGIN:VEVENT
DTSTART;TZID=Europe/Berlin:20231202T080000
DTEND;TZID=Europe/Berlin:20231202T170000
DTSTAMP:20260424T015444
CREATED:20231202T194446Z
LAST-MODIFIED:20231202T194446Z
UID:5480-1701504000-1701536400@kirche-sausenheim-neuleiningen.de
SUMMARY:Gottesdienst
DESCRIPTION:So 03.12. 9.00 Uhr Gottesdienst (1. Advent) Kreuzkirche Neuleiningen
URL:https://kirche-sausenheim-neuleiningen.de/event/gottesdienst-153/
END:VEVENT
BEGIN:VEVENT
DTSTART;TZID=Europe/Berlin:20231202T080000
DTEND;TZID=Europe/Berlin:20231202T170000
DTSTAMP:20260424T015444
CREATED:20231202T194530Z
LAST-MODIFIED:20231202T194530Z
UID:5483-1701504000-1701536400@kirche-sausenheim-neuleiningen.de
SUMMARY:Gottesdienst
DESCRIPTION:So 10.15 Uhr Gottesdienst (1. Advent) Peterskirche Sausenheim
URL:https://kirche-sausenheim-neuleiningen.de/event/gottesdienst-154/
END:VEVENT
BEGIN:VEVENT
DTSTART;TZID=Europe/Berlin:20231202T080000
DTEND;TZID=Europe/Berlin:20231202T170000
DTSTAMP:20260424T015444
CREATED:20231202T194606Z
LAST-MODIFIED:20231202T194606Z
UID:5486-1701504000-1701536400@kirche-sausenheim-neuleiningen.de
SUMMARY:Gottesdienst
DESCRIPTION:Mi 06.12. 19.00 Uhr Ökumenische Adventandacht Kath. Stephanuskirche Sausenheim
URL:https://kirche-sausenheim-neuleiningen.de/event/gottesdienst-155/
END:VEVENT
BEGIN:VEVENT
DTSTART;TZID=Europe/Berlin:20231202T080000
DTEND;TZID=Europe/Berlin:20231202T170000
DTSTAMP:20260424T015444
CREATED:20231202T194638Z
LAST-MODIFIED:20231202T194638Z
UID:5489-1701504000-1701536400@kirche-sausenheim-neuleiningen.de
SUMMARY:Gottesdienst
DESCRIPTION:So 10.12. 10.15 Uhr Gottesdienst (2. Advent) Peterskirche Sausenheim
URL:https://kirche-sausenheim-neuleiningen.de/event/gottesdienst-156/
END:VEVENT
BEGIN:VEVENT
DTSTART;TZID=Europe/Berlin:20231202T080000
DTEND;TZID=Europe/Berlin:20231202T170000
DTSTAMP:20260424T015444
CREATED:20231202T194726Z
LAST-MODIFIED:20231202T194726Z
UID:5492-1701504000-1701536400@kirche-sausenheim-neuleiningen.de
SUMMARY:Gottesdienst
DESCRIPTION:So 24.12. 15.00 Uhr Gottesdienst für Familien mit kleinen Kindern zu Heiligabend Peterskirche Sausenheim
URL:https://kirche-sausenheim-neuleiningen.de/event/gottesdienst-157/
END:VEVENT
BEGIN:VEVENT
DTSTART;TZID=Europe/Berlin:20231202T080000
DTEND;TZID=Europe/Berlin:20231202T170000
DTSTAMP:20260424T015444
CREATED:20231202T194805Z
LAST-MODIFIED:20231202T194805Z
UID:5495-1701504000-1701536400@kirche-sausenheim-neuleiningen.de
SUMMARY:Gottesdienst
DESCRIPTION:16.00 Uhr Christvesper (Familiengottesdienst) zu Heiligabend Peterskirche Sausenheim
URL:https://kirche-sausenheim-neuleiningen.de/event/gottesdienst-158/
END:VEVENT
BEGIN:VEVENT
DTSTART;TZID=Europe/Berlin:20231202T080000
DTEND;TZID=Europe/Berlin:20231202T170000
DTSTAMP:20260424T015444
CREATED:20231202T194835Z
LAST-MODIFIED:20231202T194835Z
UID:5498-1701504000-1701536400@kirche-sausenheim-neuleiningen.de
SUMMARY:Gottesdienst
DESCRIPTION:17.30 Uhr Christvesper zu Heiligabend Neuleiningen (Open Air im Burghof oder in der Burgkirche)
URL:https://kirche-sausenheim-neuleiningen.de/event/gottesdienst-159/
END:VEVENT
BEGIN:VEVENT
DTSTART;TZID=Europe/Berlin:20231202T080000
DTEND;TZID=Europe/Berlin:20231202T170000
DTSTAMP:20260424T015444
CREATED:20231202T194917Z
LAST-MODIFIED:20231202T194917Z
UID:5501-1701504000-1701536400@kirche-sausenheim-neuleiningen.de
SUMMARY:Gottesdienst
DESCRIPTION:22.00 Uhr Christmette zu Heiligabend Peterskirche Sausenheim
URL:https://kirche-sausenheim-neuleiningen.de/event/gottesdienst-160/
END:VEVENT
BEGIN:VEVENT
DTSTART;TZID=Europe/Berlin:20231202T080000
DTEND;TZID=Europe/Berlin:20231202T170000
DTSTAMP:20260424T015444
CREATED:20231202T194946Z
LAST-MODIFIED:20231202T194946Z
UID:5504-1701504000-1701536400@kirche-sausenheim-neuleiningen.de
SUMMARY:Gottesdienst
DESCRIPTION:Mo 25.12. 10.00 Uhr Gottesdienst zum 1. Weihnachtsfeiertag Kreuzkirche Neuleiningen
URL:https://kirche-sausenheim-neuleiningen.de/event/gottesdienst-161/
END:VEVENT
BEGIN:VEVENT
DTSTART;TZID=Europe/Berlin:20231202T080000
DTEND;TZID=Europe/Berlin:20231202T170000
DTSTAMP:20260424T015444
CREATED:20231202T195033Z
LAST-MODIFIED:20231202T195033Z
UID:5507-1701504000-1701536400@kirche-sausenheim-neuleiningen.de
SUMMARY:Gottesdienst
DESCRIPTION:Di 26.12. 10.15 Uhr Gottesdienst zum 2. Weihnachtsfeiertag Peterskirche Sausenheim
URL:https://kirche-sausenheim-neuleiningen.de/event/gottesdienst-162/
END:VEVENT
BEGIN:VEVENT
DTSTART;TZID=Europe/Berlin:20231202T080000
DTEND;TZID=Europe/Berlin:20231202T170000
DTSTAMP:20260424T015444
CREATED:20231202T195105Z
LAST-MODIFIED:20231202T195105Z
UID:5510-1701504000-1701536400@kirche-sausenheim-neuleiningen.de
SUMMARY:Gottesdienst
DESCRIPTION:So 31.12. 16.00 Uhr Gottesdienst zum Jahresschluss Kreuzkirche Neuleiningen
URL:https://kirche-sausenheim-neuleiningen.de/event/gottesdienst-163/
END:VEVENT
BEGIN:VEVENT
DTSTART;TZID=Europe/Berlin:20231202T080000
DTEND;TZID=Europe/Berlin:20231202T170000
DTSTAMP:20260424T015444
CREATED:20231202T195140Z
LAST-MODIFIED:20231202T195140Z
UID:5513-1701504000-1701536400@kirche-sausenheim-neuleiningen.de
SUMMARY:Gottesdienst
DESCRIPTION:17.30 Uhr Gottesdienst zum Jahresschluss Peterskirche Sausenheim
URL:https://kirche-sausenheim-neuleiningen.de/event/gottesdienst-164/
END:VEVENT
BEGIN:VEVENT
DTSTART;TZID=Europe/Berlin:20231202T170000
DTEND;TZID=Europe/Berlin:20231202T173000
DTSTAMP:20260424T015444
CREATED:20231206T083917Z
LAST-MODIFIED:20231206T083917Z
UID:5654-1701536400-1701538200@kirche-sausenheim-neuleiningen.de
SUMMARY:Singen im Advent
DESCRIPTION:Singen im Advent mit dem Posaunenchor auf dem Neuleininger Weihnachtsmarkt
URL:https://kirche-sausenheim-neuleiningen.de/event/singen-im-advent-2/
LOCATION:Burghof Neuleiningen\, Neuleiningen\, Deutschland
CATEGORIES:Gemeindeleben,Konzert,Musik
END:VEVENT
END:VCALENDAR